OziExplorer Map Data File Version 2.2
100k--n38-072--(1984).gif
100k--n38-072--(1984).gif
1 ,Map Code,
Pulkovo 1942 (2),WGS 84, 0.0000, 0.0000,WGS 84
Reserved 1
Reserved 2
Magnetic Variation,,,E
Map Projection,Transverse Mercator,PolyCal,No,AutoCalOnly,No,BSBUseWPX,No
Point01,xy, 113, 85,in, deg, 54, 20.0000,N, 47, 30.0000,E, grid, , , ,N
Point02,xy, 1391, 88,in, deg, 54, 20.0000,N, 47, 45.0000,E, grid, , , ,N
Point03,xy, 2668, 85,in, deg, 54, 20.0000,N, 48, 0.0000,E, grid, , , ,N
Point04,xy, 105, 1541,in, deg, 54, 10.0000,N, 47, 30.0000,E, grid, , , ,N
Point05,xy, 1389, 1544,in, deg, 54, 10.0000,N, 47, 45.0000,E, grid, , , ,N
Point06,xy, 2673, 1540,in, deg, 54, 10.0000,N, 48, 0.0000,E, grid, , , ,N
Point07,xy, 99, 2997,in, deg, 54, 0.0000,N, 47, 30.0000,E, grid, , , ,N
Point08,xy, 1387, 2999,in, deg, 54, 0.0000,N, 47, 45.0000,E, grid, , , ,N
Point09,xy, 2678, 2995,in, deg, 54, 0.0000,N, 48, 0.0000,E, grid, , , ,N
Point10,xy, , ,in, deg, , ,N, , ,W, grid, , , ,N
Point11,xy, , ,in, deg, , ,N, , ,W, grid, , , ,N
Point12,xy, , ,in, deg, , ,N, , ,W, grid, , , ,N
Point13,xy, , ,in, deg, , ,N, , ,W, grid, , , ,N
Point14,xy, , ,in, deg, , ,N, , ,W, grid, , , ,N
Point15,xy, , ,in, deg, , ,N, , ,W, grid, , , ,N
Point16,xy, , ,in, deg, , ,N, , ,W, grid, , , ,N
Point17,xy, , ,in, deg, , ,N, , ,W, grid, , , ,N
Point18,xy, , ,in, deg, , ,N, , ,W, grid, , , ,N
Point19,xy, , ,in, deg, , ,N, , ,W, grid, , , ,N
Point20,xy, , ,in, deg, , ,N, , ,W, grid, , , ,N
Point21,xy, , ,in, deg, , ,N, , ,W, grid, , , ,N
Point22,xy, , ,in, deg, , ,N, , ,W, grid, , , ,N
Point23,xy, , ,in, deg, , ,N, , ,W, grid, , , ,N
Point24,xy, , ,in, deg, , ,N, , ,W, grid, , , ,N
Point25,xy, , ,in, deg, , ,N, , ,W, grid, , , ,N
Point26,xy, , ,in, deg, , ,N, , ,W, grid, , , ,N
Point27,xy, , ,in, deg, , ,N, , ,W, grid, , , ,N
Point28,xy, , ,in, deg, , ,N, , ,W, grid, , , ,N
Point29,xy, , ,in, deg, , ,N, , ,W, grid, , , ,N
Point30,xy, , ,in, deg, , ,N, , ,W, grid, , , ,N
Projection Setup, 0.000000000, 45.000000000, 1.000000000, 500000.00, 0.00,,,,,
Map Feature = MF ; Map Comment = MC These follow if they exist
Track File = TF These follow if they exist
Moving Map Parameters = MM? These follow if they exist
MM0,Yes
MMPNUM,4
MMPXY,1,89,99
MMPXY,2,2680,99
MMPXY,3,2680,2982
MMPXY,4,89,2982
MMPLL,1, 47.495504, 54.331825
MMPLL,2, 48.002132, 54.331690
MMPLL,3, 48.000644, 54.001589
MMPLL,4, 47.498036, 54.001679
MM1B,12.710763
MOP,Map Open Position,0,0
IWH,Map Image Width/Height,2769,3081
