OziExplorer Map Data File Version 2.2
100k--n38-056.gif
100k--n38-056.gif
1 ,Map Code,
Pulkovo 1942 (2),WGS 84, 0.0000, 0.0000,WGS 84
Reserved 1
Reserved 2
Magnetic Variation,,,E
Map Projection,Transverse Mercator,PolyCal,No,AutoCalOnly,No,BSBUseWPX,No
Point01,xy, 111, 96,in, deg, 54, 40.0000,N, 45, 30.0000,E, grid, , , ,N
Point02,xy, 1380, 100,in, deg, 54, 40.0000,N, 45, 45.0000,E, grid, , , ,N
Point03,xy, 2650, 100,in, deg, 54, 40.0000,N, 46, 0.0000,E, grid, , , ,N
Point04,xy, 102, 1550,in, deg, 54, 30.0000,N, 45, 30.0000,E, grid, , , ,N
Point05,xy, 1378, 1555,in, deg, 54, 30.0000,N, 45, 45.0000,E, grid, , , ,N
Point06,xy, 2653, 1556,in, deg, 54, 30.0000,N, 46, 0.0000,E, grid, , , ,N
Point07,xy, 94, 3010,in, deg, 54, 20.0000,N, 45, 30.0000,E, grid, , , ,N
Point08,xy, 1374, 3014,in, deg, 54, 20.0000,N, 45, 45.0000,E, grid, , , ,N
Point09,xy, 2656, 3014,in, deg, 54, 20.0000,N, 46, 0.0000,E, grid, , , ,N
Point10,xy, , ,in, deg, , ,N, , ,W, grid, , , ,N
Point11,xy, , ,in, deg, , ,N, , ,W, grid, , , ,N
Point12,xy, , ,in, deg, , ,N, , ,W, grid, , , ,N
Point13,xy, , ,in, deg, , ,N, , ,W, grid, , , ,N
Point14,xy, , ,in, deg, , ,N, , ,W, grid, , , ,N
Point15,xy, , ,in, deg, , ,N, , ,W, grid, , , ,N
Point16,xy, , ,in, deg, , ,N, , ,W, grid, , , ,N
Point17,xy, , ,in, deg, , ,N, , ,W, grid, , , ,N
Point18,xy, , ,in, deg, , ,N, , ,W, grid, , , ,N
Point19,xy, , ,in, deg, , ,N, , ,W, grid, , , ,N
Point20,xy, , ,in, deg, , ,N, , ,W, grid, , , ,N
Point21,xy, , ,in, deg, , ,N, , ,W, grid, , , ,N
Point22,xy, , ,in, deg, , ,N, , ,W, grid, , , ,N
Point23,xy, , ,in, deg, , ,N, , ,W, grid, , , ,N
Point24,xy, , ,in, deg, , ,N, , ,W, grid, , , ,N
Point25,xy, , ,in, deg, , ,N, , ,W, grid, , , ,N
Point26,xy, , ,in, deg, , ,N, , ,W, grid, , , ,N
Point27,xy, , ,in, deg, , ,N, , ,W, grid, , , ,N
Point28,xy, , ,in, deg, , ,N, , ,W, grid, , , ,N
Point29,xy, , ,in, deg, , ,N, , ,W, grid, , , ,N
Point30,xy, , ,in, deg, , ,N, , ,W, grid, , , ,N
Projection Setup, 0.000000000, 45.000000000, 1.000000000, 500000.00, 0.00,,,,,
Map Feature = MF ; Map Comment = MC These follow if they exist
Track File = TF These follow if they exist
Moving Map Parameters = MM? These follow if they exist
MM0,Yes
MMPNUM,4
MMPXY,1,88,99
MMPXY,2,2661,99
MMPXY,3,2661,3009
MMPXY,4,88,3009
MMPLL,1, 45.495626, 54.666189
MMPLL,2, 46.002060, 54.666726
MMPLL,3, 46.001125, 54.333860
MMPLL,4, 45.498790, 54.333314
MM1B,12.694520
MOP,Map Open Position,0,0
IWH,Map Image Width/Height,2749,3108
