OziExplorer Map Data File Version 2.2
100k--n38-052.gif
100k--n38-052.gif
1 ,Map Code,
Pulkovo 1942 (2),WGS 84, 0.0000, 0.0000,WGS 84
Reserved 1
Reserved 2
Magnetic Variation,,,E
Map Projection,Transverse Mercator,PolyCal,No,AutoCalOnly,No,BSBUseWPX,No
Point01,xy, 118, 96,in, deg, 54, 40.0000,N, 43, 30.0000,E, grid, , , ,N
Point02,xy, 1388, 104,in, deg, 54, 40.0000,N, 43, 45.0000,E, grid, , , ,N
Point03,xy, 2656, 108,in, deg, 54, 40.0000,N, 44, 0.0000,E, grid, , , ,N
Point04,xy, 106, 1552,in, deg, 54, 30.0000,N, 43, 30.0000,E, grid, , , ,N
Point05,xy, 1380, 1560,in, deg, 54, 30.0000,N, 43, 45.0000,E, grid, , , ,N
Point06,xy, 2654, 1564,in, deg, 54, 30.0000,N, 44, 0.0000,E, grid, , , ,N
Point07,xy, 92, 3010,in, deg, 54, 20.0000,N, 43, 30.0000,E, grid, , , ,N
Point08,xy, 1371, 3018,in, deg, 54, 20.0000,N, 43, 45.0000,E, grid, , , ,N
Point09,xy, 2652, 3021,in, deg, 54, 20.0000,N, 44, 0.0000,E, grid, , , ,N
Point10,xy, , ,in, deg, , ,N, , ,W, grid, , , ,N
Point11,xy, , ,in, deg, , ,N, , ,W, grid, , , ,N
Point12,xy, , ,in, deg, , ,N, , ,W, grid, , , ,N
Point13,xy, , ,in, deg, , ,N, , ,W, grid, , , ,N
Point14,xy, , ,in, deg, , ,N, , ,W, grid, , , ,N
Point15,xy, , ,in, deg, , ,N, , ,W, grid, , , ,N
Point16,xy, , ,in, deg, , ,N, , ,W, grid, , , ,N
Point17,xy, , ,in, deg, , ,N, , ,W, grid, , , ,N
Point18,xy, , ,in, deg, , ,N, , ,W, grid, , , ,N
Point19,xy, , ,in, deg, , ,N, , ,W, grid, , , ,N
Point20,xy, , ,in, deg, , ,N, , ,W, grid, , , ,N
Point21,xy, , ,in, deg, , ,N, , ,W, grid, , , ,N
Point22,xy, , ,in, deg, , ,N, , ,W, grid, , , ,N
Point23,xy, , ,in, deg, , ,N, , ,W, grid, , , ,N
Point24,xy, , ,in, deg, , ,N, , ,W, grid, , , ,N
Point25,xy, , ,in, deg, , ,N, , ,W, grid, , , ,N
Point26,xy, , ,in, deg, , ,N, , ,W, grid, , , ,N
Point27,xy, , ,in, deg, , ,N, , ,W, grid, , , ,N
Point28,xy, , ,in, deg, , ,N, , ,W, grid, , , ,N
Point29,xy, , ,in, deg, , ,N, , ,W, grid, , , ,N
Point30,xy, , ,in, deg, , ,N, , ,W, grid, , , ,N
Projection Setup, 0.000000000, 45.000000000, 1.000000000, 500000.00, 0.00,,,,,
Map Feature = MF ; Map Comment = MC These follow if they exist
Track File = TF These follow if they exist
Moving Map Parameters = MM? These follow if they exist
MM0,Yes
MMPNUM,4
MMPXY,1,88,100
MMPXY,2,2668,100
MMPXY,3,2668,3014
MMPXY,4,88,3014
MMPLL,1, 43.494028, 54.666155
MMPLL,2, 44.002233, 54.667524
MMPLL,3, 44.003249, 54.334148
MMPLL,4, 43.499164, 54.332813
MM1B,12.704876
MOP,Map Open Position,0,0
IWH,Map Image Width/Height,2756,3114
