OziExplorer Map Data File Version 2.2
100k--n38-038.gif
100k--n38-038.gif
1 ,Map Code,
Pulkovo 1942 (2),WGS 84, 0.0000, 0.0000,WGS 84
Reserved 1
Reserved 2
Magnetic Variation,,,E
Map Projection,Transverse Mercator,PolyCal,No,AutoCalOnly,No,BSBUseWPX,No
Point01,xy, 104, 97,in, deg, 55, 0.0000,N, 42, 30.0000,E, grid, , , ,N
Point02,xy, 1360, 98,in, deg, 55, 0.0000,N, 42, 45.0000,E, grid, , , ,N
Point03,xy, 2618, 93,in, deg, 55, 0.0000,N, 43, 0.0000,E, grid, , , ,N
Point04,xy, 99, 1560,in, deg, 54, 50.0000,N, 42, 30.0000,E, grid, , , ,N
Point05,xy, 1360, 1561,in, deg, 54, 50.0000,N, 42, 45.0000,E, grid, , , ,N
Point06,xy, 2623, 1554,in, deg, 54, 50.0000,N, 43, 0.0000,E, grid, , , ,N
Point07,xy, 92, 3019,in, deg, 54, 40.0000,N, 42, 30.0000,E, grid, , , ,N
Point08,xy, 1359, 3022,in, deg, 54, 40.0000,N, 42, 45.0000,E, grid, , , ,N
Point09,xy, 2627, 3015,in, deg, 54, 40.0000,N, 43, 0.0000,E, grid, , , ,N
Point10,xy, , ,in, deg, , ,N, , ,W, grid, , , ,N
Point11,xy, , ,in, deg, , ,N, , ,W, grid, , , ,N
Point12,xy, , ,in, deg, , ,N, , ,W, grid, , , ,N
Point13,xy, , ,in, deg, , ,N, , ,W, grid, , , ,N
Point14,xy, , ,in, deg, , ,N, , ,W, grid, , , ,N
Point15,xy, , ,in, deg, , ,N, , ,W, grid, , , ,N
Point16,xy, , ,in, deg, , ,N, , ,W, grid, , , ,N
Point17,xy, , ,in, deg, , ,N, , ,W, grid, , , ,N
Point18,xy, , ,in, deg, , ,N, , ,W, grid, , , ,N
Point19,xy, , ,in, deg, , ,N, , ,W, grid, , , ,N
Point20,xy, , ,in, deg, , ,N, , ,W, grid, , , ,N
Point21,xy, , ,in, deg, , ,N, , ,W, grid, , , ,N
Point22,xy, , ,in, deg, , ,N, , ,W, grid, , , ,N
Point23,xy, , ,in, deg, , ,N, , ,W, grid, , , ,N
Point24,xy, , ,in, deg, , ,N, , ,W, grid, , , ,N
Point25,xy, , ,in, deg, , ,N, , ,W, grid, , , ,N
Point26,xy, , ,in, deg, , ,N, , ,W, grid, , , ,N
Point27,xy, , ,in, deg, , ,N, , ,W, grid, , , ,N
Point28,xy, , ,in, deg, , ,N, , ,W, grid, , , ,N
Point29,xy, , ,in, deg, , ,N, , ,W, grid, , , ,N
Point30,xy, , ,in, deg, , ,N, , ,W, grid, , , ,N
Projection Setup, 0.000000000, 45.000000000, 1.000000000, 500000.00, 0.00,,,,,
Map Feature = MF ; Map Comment = MC These follow if they exist
Track File = TF These follow if they exist
Moving Map Parameters = MM? These follow if they exist
MM0,Yes
MMPNUM,4
MMPXY,1,87,100
MMPXY,2,2636,100
MMPXY,3,2636,3014
MMPXY,4,87,3014
MMPLL,1, 42.496635, 54.999747
MMPLL,2, 43.003605, 54.999229
MMPLL,3, 43.001791, 54.666868
MMPLL,4, 42.498971, 54.667426
MM1B,12.718967
MOP,Map Open Position,0,0
IWH,Map Image Width/Height,2723,3114
