OziExplorer Map Data File Version 2.2
100k--n38-026--(1973).gif
100k--n38-026--(1973).gif
1 ,Map Code,
Pulkovo 1942 (2),WGS 84, 0.0000, 0.0000,WGS 84
Reserved 1
Reserved 2
Magnetic Variation,,,E
Map Projection,Transverse Mercator,PolyCal,No,AutoCalOnly,No,BSBUseWPX,No
Point01,xy, 105, 97,in, deg, 55, 20.0000,N, 42, 30.0000,E, grid, , , ,N
Point02,xy, 1352, 103,in, deg, 55, 20.0000,N, 42, 45.0000,E, grid, , , ,N
Point03,xy, 2597, 105,in, deg, 55, 20.0000,N, 43, 0.0000,E, grid, , , ,N
Point04,xy, 100, 1553,in, deg, 55, 10.0000,N, 42, 30.0000,E, grid, , , ,N
Point05,xy, 1352, 1558,in, deg, 55, 10.0000,N, 42, 45.0000,E, grid, , , ,N
Point06,xy, 2604, 1560,in, deg, 55, 10.0000,N, 43, 0.0000,E, grid, , , ,N
Point07,xy, 94, 3012,in, deg, 55, 0.0000,N, 42, 30.0000,E, grid, , , ,N
Point08,xy, 1354, 3020,in, deg, 55, 0.0000,N, 42, 45.0000,E, grid, , , ,N
Point09,xy, 2614, 3020,in, deg, 55, 0.0000,N, 43, 0.0000,E, grid, , , ,N
Point10,xy, , ,in, deg, , ,N, , ,W, grid, , , ,N
Point11,xy, , ,in, deg, , ,N, , ,W, grid, , , ,N
Point12,xy, , ,in, deg, , ,N, , ,W, grid, , , ,N
Point13,xy, , ,in, deg, , ,N, , ,W, grid, , , ,N
Point14,xy, , ,in, deg, , ,N, , ,W, grid, , , ,N
Point15,xy, , ,in, deg, , ,N, , ,W, grid, , , ,N
Point16,xy, , ,in, deg, , ,N, , ,W, grid, , , ,N
Point17,xy, , ,in, deg, , ,N, , ,W, grid, , , ,N
Point18,xy, , ,in, deg, , ,N, , ,W, grid, , , ,N
Point19,xy, , ,in, deg, , ,N, , ,W, grid, , , ,N
Point20,xy, , ,in, deg, , ,N, , ,W, grid, , , ,N
Point21,xy, , ,in, deg, , ,N, , ,W, grid, , , ,N
Point22,xy, , ,in, deg, , ,N, , ,W, grid, , , ,N
Point23,xy, , ,in, deg, , ,N, , ,W, grid, , , ,N
Point24,xy, , ,in, deg, , ,N, , ,W, grid, , , ,N
Point25,xy, , ,in, deg, , ,N, , ,W, grid, , , ,N
Point26,xy, , ,in, deg, , ,N, , ,W, grid, , , ,N
Point27,xy, , ,in, deg, , ,N, , ,W, grid, , , ,N
Point28,xy, , ,in, deg, , ,N, , ,W, grid, , , ,N
Point29,xy, , ,in, deg, , ,N, , ,W, grid, , , ,N
Point30,xy, , ,in, deg, , ,N, , ,W, grid, , , ,N
Projection Setup, 0.000000000, 45.000000000, 1.000000000, 500000.00, 0.00,,,,,
Map Feature = MF ; Map Comment = MC These follow if they exist
Track File = TF These follow if they exist
Moving Map Parameters = MM? These follow if they exist
MM0,Yes
MMPNUM,4
MMPXY,1,86,100
MMPXY,2,2614,100
MMPXY,3,2614,3014
MMPXY,4,86,3014
MMPLL,1, 42.496461, 55.332883
MMPLL,2, 43.003099, 55.333788
MMPLL,3, 43.000466, 55.000630
MMPLL,4, 42.498037, 54.999761
MM1B,12.711497
MOP,Map Open Position,0,0
IWH,Map Image Width/Height,2700,3114
