OziExplorer Map Data File Version 2.2
100k--n38-014--(1983).gif
100k--n38-014--(1983).gif
1 ,Map Code,
Pulkovo 1942 (2),WGS 84, 0.0000, 0.0000,WGS 84
Reserved 1
Reserved 2
Magnetic Variation,,,E
Map Projection,Transverse Mercator,PolyCal,No,AutoCalOnly,No,BSBUseWPX,No
Point01,xy, 108, 88,in, deg, 55, 40.0000,N, 42, 30.0000,E, grid, , , ,N
Point02,xy, 1346, 98,in, deg, 55, 40.0000,N, 42, 45.0000,E, grid, , , ,N
Point03,xy, 2582, 102,in, deg, 55, 40.0000,N, 43, 0.0000,E, grid, , , ,N
Point04,xy, 98, 1547,in, deg, 55, 30.0000,N, 42, 30.0000,E, grid, , , ,N
Point05,xy, 1344, 1554,in, deg, 55, 30.0000,N, 42, 45.0000,E, grid, , , ,N
Point06,xy, 2587, 1557,in, deg, 55, 30.0000,N, 43, 0.0000,E, grid, , , ,N
Point07,xy, 91, 3006,in, deg, 55, 20.0000,N, 42, 30.0000,E, grid, , , ,N
Point08,xy, 1344, 3012,in, deg, 55, 20.0000,N, 42, 45.0000,E, grid, , , ,N
Point09,xy, 2592, 3016,in, deg, 55, 20.0000,N, 43, 0.0000,E, grid, , , ,N
Point10,xy, , ,in, deg, , ,N, , ,W, grid, , , ,N
Point11,xy, , ,in, deg, , ,N, , ,W, grid, , , ,N
Point12,xy, , ,in, deg, , ,N, , ,W, grid, , , ,N
Point13,xy, , ,in, deg, , ,N, , ,W, grid, , , ,N
Point14,xy, , ,in, deg, , ,N, , ,W, grid, , , ,N
Point15,xy, , ,in, deg, , ,N, , ,W, grid, , , ,N
Point16,xy, , ,in, deg, , ,N, , ,W, grid, , , ,N
Point17,xy, , ,in, deg, , ,N, , ,W, grid, , , ,N
Point18,xy, , ,in, deg, , ,N, , ,W, grid, , , ,N
Point19,xy, , ,in, deg, , ,N, , ,W, grid, , , ,N
Point20,xy, , ,in, deg, , ,N, , ,W, grid, , , ,N
Point21,xy, , ,in, deg, , ,N, , ,W, grid, , , ,N
Point22,xy, , ,in, deg, , ,N, , ,W, grid, , , ,N
Point23,xy, , ,in, deg, , ,N, , ,W, grid, , , ,N
Point24,xy, , ,in, deg, , ,N, , ,W, grid, , , ,N
Point25,xy, , ,in, deg, , ,N, , ,W, grid, , , ,N
Point26,xy, , ,in, deg, , ,N, , ,W, grid, , , ,N
Point27,xy, , ,in, deg, , ,N, , ,W, grid, , , ,N
Point28,xy, , ,in, deg, , ,N, , ,W, grid, , , ,N
Point29,xy, , ,in, deg, , ,N, , ,W, grid, , , ,N
Point30,xy, , ,in, deg, , ,N, , ,W, grid, , , ,N
Projection Setup, 0.000000000, 45.000000000, 1.000000000, 500000.00, 0.00,,,,,
Map Feature = MF ; Map Comment = MC These follow if they exist
Track File = TF These follow if they exist
Moving Map Parameters = MM? These follow if they exist
MM0,Yes
MMPNUM,4
MMPXY,1,86,99
MMPXY,2,2595,99
MMPXY,3,2595,3001
MMPXY,4,86,3001
MMPLL,1, 42.495910, 55.665527
MMPLL,2, 43.002260, 55.666855
MMPLL,3, 43.000744, 55.335032
MMPLL,4, 42.498636, 55.333743
MM1B,12.693486
MOP,Map Open Position,0,0
IWH,Map Image Width/Height,2681,3100
