OziExplorer Map Data File Version 2.2
500k--n36-3.gif
500k--n36-3.gif
1 ,Map Code,
Pulkovo 1942 (2),WGS 84, 0.0000, 0.0000,WGS 84
Reserved 1
Reserved 2
Magnetic Variation,,,E
Map Projection,Transverse Mercator,PolyCal,No,AutoCalOnly,No,BSBUseWPX,No
Point01,xy, 132, 81,in, deg, 54, 0.0000,N, 30, 0.0000,E, grid, , , ,N
Point02,xy, 1676, 97,in, deg, 54, 0.0000,N, 31, 30.0000,E, grid, , , ,N
Point03,xy, 3219, 82,in, deg, 54, 0.0000,N, 33, 0.0000,E, grid, , , ,N
Point04,xy, 97, 1814,in, deg, 53, 0.0000,N, 30, 0.0000,E, grid, , , ,N
Point05,xy, 1676, 1833,in, deg, 53, 0.0000,N, 31, 30.0000,E, grid, , , ,N
Point06,xy, 3253, 1818,in, deg, 53, 0.0000,N, 33, 0.0000,E, grid, , , ,N
Point07,xy, 61, 3551,in, deg, 52, 0.0000,N, 30, 0.0000,E, grid, , , ,N
Point08,xy, 1675, 3569,in, deg, 52, 0.0000,N, 31, 30.0000,E, grid, , , ,N
Point09,xy, 3289, 3552,in, deg, 52, 0.0000,N, 33, 0.0000,E, grid, , , ,N
Point10,xy, , ,in, deg, , ,N, , ,W, grid, , , ,N
Point11,xy, , ,in, deg, , ,N, , ,W, grid, , , ,N
Point12,xy, , ,in, deg, , ,N, , ,W, grid, , , ,N
Point13,xy, , ,in, deg, , ,N, , ,W, grid, , , ,N
Point14,xy, , ,in, deg, , ,N, , ,W, grid, , , ,N
Point15,xy, , ,in, deg, , ,N, , ,W, grid, , , ,N
Point16,xy, , ,in, deg, , ,N, , ,W, grid, , , ,N
Point17,xy, , ,in, deg, , ,N, , ,W, grid, , , ,N
Point18,xy, , ,in, deg, , ,N, , ,W, grid, , , ,N
Point19,xy, , ,in, deg, , ,N, , ,W, grid, , , ,N
Point20,xy, , ,in, deg, , ,N, , ,W, grid, , , ,N
Point21,xy, , ,in, deg, , ,N, , ,W, grid, , , ,N
Point22,xy, , ,in, deg, , ,N, , ,W, grid, , , ,N
Point23,xy, , ,in, deg, , ,N, , ,W, grid, , , ,N
Point24,xy, , ,in, deg, , ,N, , ,W, grid, , , ,N
Point25,xy, , ,in, deg, , ,N, , ,W, grid, , , ,N
Point26,xy, , ,in, deg, , ,N, , ,W, grid, , , ,N
Point27,xy, , ,in, deg, , ,N, , ,W, grid, , , ,N
Point28,xy, , ,in, deg, , ,N, , ,W, grid, , , ,N
Point29,xy, , ,in, deg, , ,N, , ,W, grid, , , ,N
Point30,xy, , ,in, deg, , ,N, , ,W, grid, , , ,N
Projection Setup, 0.000000000, 33.000000000, 1.000000000, 500000.00, 0.00,,,,,
Map Feature = MF ; Map Comment = MC These follow if they exist
Track File = TF These follow if they exist
Moving Map Parameters = MM? These follow if they exist
MM0,Yes
MMPNUM,4
MMPXY,1,132,81
MMPXY,2,3219,82
MMPXY,3,3289,3552
MMPXY,4,61,3551
MMPLL,1, 30.000000, 54.000000
MMPLL,2, 33.000000, 54.000000
MMPLL,3, 33.000000, 52.000000
MMPLL,4, 30.000000, 52.000000
MM1B,60.688901
MOP,Map Open Position,0,0
IWH,Map Image Width/Height,3350,3658
