OziExplorer Map Data File Version 2.2
100k--n36-113.gif
100k--n36-113.gif
1 ,Map Code,
Pulkovo 1942 (2),WGS 84, 0.0000, 0.0000,WGS 84
Reserved 1
Reserved 2
Magnetic Variation,,,E
Map Projection,Transverse Mercator,PolyCal,No,AutoCalOnly,No,BSBUseWPX,No
Point01,xy, 107, 96,in, deg, 53, 0.0000,N, 32, 0.0000,E, grid, , , ,N
Point02,xy, 1426, 99,in, deg, 53, 0.0000,N, 32, 15.0000,E, grid, , , ,N
Point03,xy, 2744, 100,in, deg, 53, 0.0000,N, 32, 30.0000,E, grid, , , ,N
Point04,xy, 101, 1554,in, deg, 52, 50.0000,N, 32, 0.0000,E, grid, , , ,N
Point05,xy, 1422, 1555,in, deg, 52, 50.0000,N, 32, 15.0000,E, grid, , , ,N
Point06,xy, 2746, 1555,in, deg, 52, 50.0000,N, 32, 30.0000,E, grid, , , ,N
Point07,xy, 94, 3012,in, deg, 52, 40.0000,N, 32, 0.0000,E, grid, , , ,N
Point08,xy, 1422, 3016,in, deg, 52, 40.0000,N, 32, 15.0000,E, grid, , , ,N
Point09,xy, 2748, 3015,in, deg, 52, 40.0000,N, 32, 30.0000,E, grid, , , ,N
Point10,xy, , ,in, deg, , ,N, , ,W, grid, , , ,N
Point11,xy, , ,in, deg, , ,N, , ,W, grid, , , ,N
Point12,xy, , ,in, deg, , ,N, , ,W, grid, , , ,N
Point13,xy, , ,in, deg, , ,N, , ,W, grid, , , ,N
Point14,xy, , ,in, deg, , ,N, , ,W, grid, , , ,N
Point15,xy, , ,in, deg, , ,N, , ,W, grid, , , ,N
Point16,xy, , ,in, deg, , ,N, , ,W, grid, , , ,N
Point17,xy, , ,in, deg, , ,N, , ,W, grid, , , ,N
Point18,xy, , ,in, deg, , ,N, , ,W, grid, , , ,N
Point19,xy, , ,in, deg, , ,N, , ,W, grid, , , ,N
Point20,xy, , ,in, deg, , ,N, , ,W, grid, , , ,N
Point21,xy, , ,in, deg, , ,N, , ,W, grid, , , ,N
Point22,xy, , ,in, deg, , ,N, , ,W, grid, , , ,N
Point23,xy, , ,in, deg, , ,N, , ,W, grid, , , ,N
Point24,xy, , ,in, deg, , ,N, , ,W, grid, , , ,N
Point25,xy, , ,in, deg, , ,N, , ,W, grid, , , ,N
Point26,xy, , ,in, deg, , ,N, , ,W, grid, , , ,N
Point27,xy, , ,in, deg, , ,N, , ,W, grid, , , ,N
Point28,xy, , ,in, deg, , ,N, , ,W, grid, , , ,N
Point29,xy, , ,in, deg, , ,N, , ,W, grid, , , ,N
Point30,xy, , ,in, deg, , ,N, , ,W, grid, , , ,N
Projection Setup, 0.000000000, 33.000000000, 1.000000000, 500000.00, 0.00,,,,,
Map Feature = MF ; Map Comment = MC These follow if they exist
Track File = TF These follow if they exist
Moving Map Parameters = MM? These follow if they exist
MM0,Yes
MMPNUM,4
MMPXY,1,91,100
MMPXY,2,2743,100
MMPXY,3,2743,3014
MMPXY,4,91,3014
MMPLL,1, 31.996797, 52.999494
MMPLL,2, 32.499980, 52.999813
MMPLL,3, 32.498890, 52.666704
MMPLL,4, 31.999542, 52.666402
MM1B,12.733470
MOP,Map Open Position,0,0
IWH,Map Image Width/Height,2834,3114
