OziExplorer Map Data File Version 2.2
100k--n36-104--(1986).gif
100k--n36-104--(1986).gif
1 ,Map Code,
Pulkovo 1942 (2),WGS 84, 0.0000, 0.0000,WGS 84
Reserved 1
Reserved 2
Magnetic Variation,,,E
Map Projection,Transverse Mercator,PolyCal,No,AutoCalOnly,No,BSBUseWPX,No
Point01,xy, 99, 92,in, deg, 53, 20.0000,N, 33, 30.0000,E, grid, , , ,N
Point02,xy, 1408, 100,in, deg, 53, 20.0000,N, 33, 45.0000,E, grid, , , ,N
Point03,xy, 2716, 101,in, deg, 53, 20.0000,N, 34, 0.0000,E, grid, , , ,N
Point04,xy, 92, 1546,in, deg, 53, 10.0000,N, 33, 30.0000,E, grid, , , ,N
Point05,xy, 1406, 1551,in, deg, 53, 10.0000,N, 33, 45.0000,E, grid, , , ,N
Point06,xy, 2722, 1554,in, deg, 53, 10.0000,N, 34, 0.0000,E, grid, , , ,N
Point07,xy, 88, 3001,in, deg, 53, 0.0000,N, 33, 30.0000,E, grid, , , ,N
Point08,xy, 1408, 3008,in, deg, 53, 0.0000,N, 33, 45.0000,E, grid, , , ,N
Point09,xy, 2730, 3007,in, deg, 53, 0.0000,N, 34, 0.0000,E, grid, , , ,N
Point10,xy, , ,in, deg, , ,N, , ,W, grid, , , ,N
Point11,xy, , ,in, deg, , ,N, , ,W, grid, , , ,N
Point12,xy, , ,in, deg, , ,N, , ,W, grid, , , ,N
Point13,xy, , ,in, deg, , ,N, , ,W, grid, , , ,N
Point14,xy, , ,in, deg, , ,N, , ,W, grid, , , ,N
Point15,xy, , ,in, deg, , ,N, , ,W, grid, , , ,N
Point16,xy, , ,in, deg, , ,N, , ,W, grid, , , ,N
Point17,xy, , ,in, deg, , ,N, , ,W, grid, , , ,N
Point18,xy, , ,in, deg, , ,N, , ,W, grid, , , ,N
Point19,xy, , ,in, deg, , ,N, , ,W, grid, , , ,N
Point20,xy, , ,in, deg, , ,N, , ,W, grid, , , ,N
Point21,xy, , ,in, deg, , ,N, , ,W, grid, , , ,N
Point22,xy, , ,in, deg, , ,N, , ,W, grid, , , ,N
Point23,xy, , ,in, deg, , ,N, , ,W, grid, , , ,N
Point24,xy, , ,in, deg, , ,N, , ,W, grid, , , ,N
Point25,xy, , ,in, deg, , ,N, , ,W, grid, , , ,N
Point26,xy, , ,in, deg, , ,N, , ,W, grid, , , ,N
Point27,xy, , ,in, deg, , ,N, , ,W, grid, , , ,N
Point28,xy, , ,in, deg, , ,N, , ,W, grid, , , ,N
Point29,xy, , ,in, deg, , ,N, , ,W, grid, , , ,N
Point30,xy, , ,in, deg, , ,N, , ,W, grid, , , ,N
Projection Setup, 0.000000000, 33.000000000, 1.000000000, 500000.00, 0.00,,,,,
Map Feature = MF ; Map Comment = MC These follow if they exist
Track File = TF These follow if they exist
Moving Map Parameters = MM? These follow if they exist
MM0,Yes
MMPNUM,4
MMPXY,1,90,99
MMPXY,2,2714,99
MMPXY,3,2714,3002
MMPXY,4,90,3002
MMPLL,1, 33.498586, 53.332608
MMPLL,2, 33.999446, 53.333482
MMPLL,3, 33.997335, 53.000694
MMPLL,4, 33.500335, 52.999806
MM1B,12.710504
MOP,Map Open Position,0,0
IWH,Map Image Width/Height,2804,3101
