OziExplorer Map Data File Version 2.2
100k--n36-102--(1985).gif
100k--n36-102--(1985).gif
1 ,Map Code,
Pulkovo 1942 (2),WGS 84, 0.0000, 0.0000,WGS 84
Reserved 1
Reserved 2
Magnetic Variation,,,E
Map Projection,Transverse Mercator,PolyCal,No,AutoCalOnly,No,BSBUseWPX,No
Point01,xy, 85, 95,in, deg, 53, 20.0000,N, 32, 30.0000,E, grid, , , ,N
Point02,xy, 1394, 92,in, deg, 53, 20.0000,N, 32, 45.0000,E, grid, , , ,N
Point03,xy, 2704, 86,in, deg, 53, 20.0000,N, 33, 0.0000,E, grid, , , ,N
Point04,xy, 88, 1554,in, deg, 53, 10.0000,N, 32, 30.0000,E, grid, , , ,N
Point05,xy, 1405, 1552,in, deg, 53, 10.0000,N, 32, 45.0000,E, grid, , , ,N
Point06,xy, 2719, 1545,in, deg, 53, 10.0000,N, 33, 0.0000,E, grid, , , ,N
Point07,xy, 91, 3014,in, deg, 53, 0.0000,N, 32, 30.0000,E, grid, , , ,N
Point08,xy, 1415, 3011,in, deg, 53, 0.0000,N, 32, 45.0000,E, grid, , , ,N
Point09,xy, 2736, 3002,in, deg, 53, 0.0000,N, 33, 0.0000,E, grid, , , ,N
Point10,xy, , ,in, deg, , ,N, , ,W, grid, , , ,N
Point11,xy, , ,in, deg, , ,N, , ,W, grid, , , ,N
Point12,xy, , ,in, deg, , ,N, , ,W, grid, , , ,N
Point13,xy, , ,in, deg, , ,N, , ,W, grid, , , ,N
Point14,xy, , ,in, deg, , ,N, , ,W, grid, , , ,N
Point15,xy, , ,in, deg, , ,N, , ,W, grid, , , ,N
Point16,xy, , ,in, deg, , ,N, , ,W, grid, , , ,N
Point17,xy, , ,in, deg, , ,N, , ,W, grid, , , ,N
Point18,xy, , ,in, deg, , ,N, , ,W, grid, , , ,N
Point19,xy, , ,in, deg, , ,N, , ,W, grid, , , ,N
Point20,xy, , ,in, deg, , ,N, , ,W, grid, , , ,N
Point21,xy, , ,in, deg, , ,N, , ,W, grid, , , ,N
Point22,xy, , ,in, deg, , ,N, , ,W, grid, , , ,N
Point23,xy, , ,in, deg, , ,N, , ,W, grid, , , ,N
Point24,xy, , ,in, deg, , ,N, , ,W, grid, , , ,N
Point25,xy, , ,in, deg, , ,N, , ,W, grid, , , ,N
Point26,xy, , ,in, deg, , ,N, , ,W, grid, , , ,N
Point27,xy, , ,in, deg, , ,N, , ,W, grid, , , ,N
Point28,xy, , ,in, deg, , ,N, , ,W, grid, , , ,N
Point29,xy, , ,in, deg, , ,N, , ,W, grid, , , ,N
Point30,xy, , ,in, deg, , ,N, , ,W, grid, , , ,N
Projection Setup, 0.000000000, 33.000000000, 1.000000000, 500000.00, 0.00,,,,,
Map Feature = MF ; Map Comment = MC These follow if they exist
Track File = TF These follow if they exist
Moving Map Parameters = MM? These follow if they exist
MM0,Yes
MMPNUM,4
MMPXY,1,90,99
MMPXY,2,2707,99
MMPXY,3,2707,3002
MMPXY,4,90,3002
MMPLL,1, 32.501231, 53.332912
MMPLL,2, 33.000353, 53.331775
MMPLL,3, 32.994727, 53.000172
MMPLL,4, 32.499438, 53.001299
MM1B,12.700992
MOP,Map Open Position,0,0
IWH,Map Image Width/Height,2797,3101
