OziExplorer Map Data File Version 2.2
100k--n36-095.gif
100k--n36-095.gif
1 ,Map Code,
Pulkovo 1942 (2),WGS 84, 0.0000, 0.0000,WGS 84
Reserved 1
Reserved 2
Magnetic Variation,,,E
Map Projection,Transverse Mercator,PolyCal,No,AutoCalOnly,No,BSBUseWPX,No
Point01,xy, 72, 83,in, deg, 53, 40.0000,N, 35, 0.0000,E, grid, , , ,N
Point02,xy, 1172, 83,in, deg, 53, 40.0000,N, 35, 15.0000,E, grid, , , ,N
Point03,xy, 2270, 78,in, deg, 53, 40.0000,N, 35, 30.0000,E, grid, , , ,N
Point04,xy, 72, 1319,in, deg, 53, 30.0000,N, 35, 0.0000,E, grid, , , ,N
Point05,xy, 1178, 1316,in, deg, 53, 30.0000,N, 35, 15.0000,E, grid, , , ,N
Point06,xy, 2283, 1312,in, deg, 53, 30.0000,N, 35, 30.0000,E, grid, , , ,N
Point07,xy, 73, 2552,in, deg, 53, 20.0000,N, 35, 0.0000,E, grid, , , ,N
Point08,xy, 1184, 2551,in, deg, 53, 20.0000,N, 35, 15.0000,E, grid, , , ,N
Point09,xy, 2296, 2547,in, deg, 53, 20.0000,N, 35, 30.0000,E, grid, , , ,N
Point10,xy, , ,in, deg, , ,N, , ,W, grid, , , ,N
Point11,xy, , ,in, deg, , ,N, , ,W, grid, , , ,N
Point12,xy, , ,in, deg, , ,N, , ,W, grid, , , ,N
Point13,xy, , ,in, deg, , ,N, , ,W, grid, , , ,N
Point14,xy, , ,in, deg, , ,N, , ,W, grid, , , ,N
Point15,xy, , ,in, deg, , ,N, , ,W, grid, , , ,N
Point16,xy, , ,in, deg, , ,N, , ,W, grid, , , ,N
Point17,xy, , ,in, deg, , ,N, , ,W, grid, , , ,N
Point18,xy, , ,in, deg, , ,N, , ,W, grid, , , ,N
Point19,xy, , ,in, deg, , ,N, , ,W, grid, , , ,N
Point20,xy, , ,in, deg, , ,N, , ,W, grid, , , ,N
Point21,xy, , ,in, deg, , ,N, , ,W, grid, , , ,N
Point22,xy, , ,in, deg, , ,N, , ,W, grid, , , ,N
Point23,xy, , ,in, deg, , ,N, , ,W, grid, , , ,N
Point24,xy, , ,in, deg, , ,N, , ,W, grid, , , ,N
Point25,xy, , ,in, deg, , ,N, , ,W, grid, , , ,N
Point26,xy, , ,in, deg, , ,N, , ,W, grid, , , ,N
Point27,xy, , ,in, deg, , ,N, , ,W, grid, , , ,N
Point28,xy, , ,in, deg, , ,N, , ,W, grid, , , ,N
Point29,xy, , ,in, deg, , ,N, , ,W, grid, , , ,N
Point30,xy, , ,in, deg, , ,N, , ,W, grid, , , ,N
Projection Setup, 0.000000000, 33.000000000, 1.000000000, 500000.00, 0.00,,,,,
Map Feature = MF ; Map Comment = MC These follow if they exist
Track File = TF These follow if they exist
Moving Map Parameters = MM? These follow if they exist
MM0,Yes
MMPNUM,4
MMPXY,1,75,84
MMPXY,2,2283,84
MMPXY,3,2283,2548
MMPXY,4,75,2548
MMPLL,1, 35.001073, 53.666611
MMPLL,2, 35.502424, 53.665819
MMPLL,3, 35.497531, 53.333150
MMPLL,4, 35.000092, 53.333889
MM1B,15.000591
MOP,Map Open Position,0,0
IWH,Map Image Width/Height,2358,2632
