OziExplorer Map Data File Version 2.2
100k--n36-094.gif
100k--n36-094.gif
1 ,Map Code,
Pulkovo 1942 (2),WGS 84, 0.0000, 0.0000,WGS 84
Reserved 1
Reserved 2
Magnetic Variation,,,E
Map Projection,Transverse Mercator,PolyCal,No,AutoCalOnly,No,BSBUseWPX,No
Point01,xy, 66, 82,in, deg, 53, 40.0000,N, 34, 30.0000,E, grid, , , ,N
Point02,xy, 1166, 87,in, deg, 53, 40.0000,N, 34, 45.0000,E, grid, , , ,N
Point03,xy, 2264, 87,in, deg, 53, 40.0000,N, 35, 0.0000,E, grid, , , ,N
Point04,xy, 60, 1318,in, deg, 53, 30.0000,N, 34, 30.0000,E, grid, , , ,N
Point05,xy, 1164, 1323,in, deg, 53, 30.0000,N, 34, 45.0000,E, grid, , , ,N
Point06,xy, 2270, 1323,in, deg, 53, 30.0000,N, 35, 0.0000,E, grid, , , ,N
Point07,xy, 52, 2552,in, deg, 53, 20.0000,N, 34, 30.0000,E, grid, , , ,N
Point08,xy, 1164, 2557,in, deg, 53, 20.0000,N, 34, 45.0000,E, grid, , , ,N
Point09,xy, 2276, 2558,in, deg, 53, 20.0000,N, 35, 0.0000,E, grid, , , ,N
Point10,xy, , ,in, deg, , ,N, , ,W, grid, , , ,N
Point11,xy, , ,in, deg, , ,N, , ,W, grid, , , ,N
Point12,xy, , ,in, deg, , ,N, , ,W, grid, , , ,N
Point13,xy, , ,in, deg, , ,N, , ,W, grid, , , ,N
Point14,xy, , ,in, deg, , ,N, , ,W, grid, , , ,N
Point15,xy, , ,in, deg, , ,N, , ,W, grid, , , ,N
Point16,xy, , ,in, deg, , ,N, , ,W, grid, , , ,N
Point17,xy, , ,in, deg, , ,N, , ,W, grid, , , ,N
Point18,xy, , ,in, deg, , ,N, , ,W, grid, , , ,N
Point19,xy, , ,in, deg, , ,N, , ,W, grid, , , ,N
Point20,xy, , ,in, deg, , ,N, , ,W, grid, , , ,N
Point21,xy, , ,in, deg, , ,N, , ,W, grid, , , ,N
Point22,xy, , ,in, deg, , ,N, , ,W, grid, , , ,N
Point23,xy, , ,in, deg, , ,N, , ,W, grid, , , ,N
Point24,xy, , ,in, deg, , ,N, , ,W, grid, , , ,N
Point25,xy, , ,in, deg, , ,N, , ,W, grid, , , ,N
Point26,xy, , ,in, deg, , ,N, , ,W, grid, , , ,N
Point27,xy, , ,in, deg, , ,N, , ,W, grid, , , ,N
Point28,xy, , ,in, deg, , ,N, , ,W, grid, , , ,N
Point29,xy, , ,in, deg, , ,N, , ,W, grid, , , ,N
Point30,xy, , ,in, deg, , ,N, , ,W, grid, , , ,N
Projection Setup, 0.000000000, 33.000000000, 1.000000000, 500000.00, 0.00,,,,,
Map Feature = MF ; Map Comment = MC These follow if they exist
Track File = TF These follow if they exist
Moving Map Parameters = MM? These follow if they exist
MM0,Yes
MMPNUM,4
MMPXY,1,75,84
MMPXY,2,2276,84
MMPXY,3,2276,2555
MMPXY,4,75,2555
MMPLL,1, 34.502424, 53.666454
MMPLL,2, 35.002198, 53.667145
MMPLL,3, 35.000526, 53.333742
MMPLL,4, 34.504660, 53.333020
MM1B,14.999995
MOP,Map Open Position,0,0
IWH,Map Image Width/Height,2351,2639
