OziExplorer Map Data File Version 2.2
100k--n36-084.gif
100k--n36-084.gif
1 ,Map Code,
Pulkovo 1942 (2),WGS 84, 0.0000, 0.0000,WGS 84
Reserved 1
Reserved 2
Magnetic Variation,,,E
Map Projection,Transverse Mercator,PolyCal,No,AutoCalOnly,No,BSBUseWPX,No
Point01,xy, 93, 87,in, deg, 54, 0.0000,N, 35, 30.0000,E, grid, , , ,N
Point02,xy, 1360, 91,ex, deg, 54, 0.0000,N, 35, 45.0000,E, grid, , , ,N
Point03,xy, 2651, 87,in, deg, 54, 0.0000,N, 36, 0.0000,E, grid, , , ,N
Point04,xy, 88, 1532,in, deg, 53, 50.0000,N, 35, 30.0000,E, grid, , , ,N
Point05,xy, 1370, 1536,in, deg, 53, 50.0000,N, 35, 45.0000,E, grid, , , ,N
Point06,xy, 2654, 1534,in, deg, 53, 50.0000,N, 36, 0.0000,E, grid, , , ,N
Point07,xy, 83, 2981,in, deg, 53, 40.0000,N, 35, 30.0000,E, grid, , , ,N
Point08,xy, 1373, 2983,in, deg, 53, 40.0000,N, 35, 45.0000,E, grid, , , ,N
Point09,xy, 2659, 2979,in, deg, 53, 40.0000,N, 36, 0.0000,E, grid, , , ,N
Point10,xy, , ,in, deg, , ,N, , ,W, grid, , , ,N
Point11,xy, , ,in, deg, , ,N, , ,W, grid, , , ,N
Point12,xy, , ,in, deg, , ,N, , ,W, grid, , , ,N
Point13,xy, , ,in, deg, , ,N, , ,W, grid, , , ,N
Point14,xy, , ,in, deg, , ,N, , ,W, grid, , , ,N
Point15,xy, , ,in, deg, , ,N, , ,W, grid, , , ,N
Point16,xy, , ,in, deg, , ,N, , ,W, grid, , , ,N
Point17,xy, , ,in, deg, , ,N, , ,W, grid, , , ,N
Point18,xy, , ,in, deg, , ,N, , ,W, grid, , , ,N
Point19,xy, , ,in, deg, , ,N, , ,W, grid, , , ,N
Point20,xy, , ,in, deg, , ,N, , ,W, grid, , , ,N
Point21,xy, , ,in, deg, , ,N, , ,W, grid, , , ,N
Point22,xy, , ,in, deg, , ,N, , ,W, grid, , , ,N
Point23,xy, , ,in, deg, , ,N, , ,W, grid, , , ,N
Point24,xy, , ,in, deg, , ,N, , ,W, grid, , , ,N
Point25,xy, , ,in, deg, , ,N, , ,W, grid, , , ,N
Point26,xy, , ,in, deg, , ,N, , ,W, grid, , , ,N
Point27,xy, , ,in, deg, , ,N, , ,W, grid, , , ,N
Point28,xy, , ,in, deg, , ,N, , ,W, grid, , , ,N
Point29,xy, , ,in, deg, , ,N, , ,W, grid, , , ,N
Point30,xy, , ,in, deg, , ,N, , ,W, grid, , , ,N
Projection Setup, 0.000000000, 33.000000000, 1.000000000, 500000.00, 0.00,,,,,
Map Feature = MF ; Map Comment = MC These follow if they exist
Track File = TF These follow if they exist
Moving Map Parameters = MM? These follow if they exist
MM0,Yes
MMPNUM,4
MMPXY,1,93,87
MMPXY,2,2651,87
MMPXY,3,2659,2979
MMPXY,4,83,2981
MMPLL,1, 35.500000, 54.000000
MMPLL,2, 36.000000, 54.000000
MMPLL,3, 36.000000, 53.666667
MMPLL,4, 35.500000, 53.666667
MM1B,12.036435
MOP,Map Open Position,0,0
IWH,Map Image Width/Height,2730,3074
