OziExplorer Map Data File Version 2.2
100k--n36-082.gif
100k--n36-082.gif
1 ,Map Code,
Pulkovo 1942 (2),WGS 84, 0.0000, 0.0000,WGS 84
Reserved 1
Reserved 2
Magnetic Variation,,,E
Map Projection,Transverse Mercator,PolyCal,No,AutoCalOnly,No,BSBUseWPX,No
Point01,xy, 85, 82,in, deg, 54, 0.0000,N, 34, 30.0000,E, grid, , , ,N
Point02,xy, 1178, 86,in, deg, 54, 0.0000,N, 34, 45.0000,E, grid, , , ,N
Point03,xy, 2269, 86,in, deg, 54, 0.0000,N, 35, 0.0000,E, grid, , , ,N
Point04,xy, 82, 1316,in, deg, 53, 50.0000,N, 34, 30.0000,E, grid, , , ,N
Point05,xy, 1178, 1318,in, deg, 53, 50.0000,N, 34, 45.0000,E, grid, , , ,N
Point06,xy, 2278, 1319,in, deg, 53, 50.0000,N, 35, 0.0000,E, grid, , , ,N
Point07,xy, 81, 2550,in, deg, 53, 40.0000,N, 34, 30.0000,E, grid, , , ,N
Point08,xy, 1182, 2553,in, deg, 53, 40.0000,N, 34, 45.0000,E, grid, , , ,N
Point09,xy, 2285, 2552,in, deg, 53, 40.0000,N, 35, 0.0000,E, grid, , , ,N
Point10,xy, , ,in, deg, , ,N, , ,W, grid, , , ,N
Point11,xy, , ,in, deg, , ,N, , ,W, grid, , , ,N
Point12,xy, , ,in, deg, , ,N, , ,W, grid, , , ,N
Point13,xy, , ,in, deg, , ,N, , ,W, grid, , , ,N
Point14,xy, , ,in, deg, , ,N, , ,W, grid, , , ,N
Point15,xy, , ,in, deg, , ,N, , ,W, grid, , , ,N
Point16,xy, , ,in, deg, , ,N, , ,W, grid, , , ,N
Point17,xy, , ,in, deg, , ,N, , ,W, grid, , , ,N
Point18,xy, , ,in, deg, , ,N, , ,W, grid, , , ,N
Point19,xy, , ,in, deg, , ,N, , ,W, grid, , , ,N
Point20,xy, , ,in, deg, , ,N, , ,W, grid, , , ,N
Point21,xy, , ,in, deg, , ,N, , ,W, grid, , , ,N
Point22,xy, , ,in, deg, , ,N, , ,W, grid, , , ,N
Point23,xy, , ,in, deg, , ,N, , ,W, grid, , , ,N
Point24,xy, , ,in, deg, , ,N, , ,W, grid, , , ,N
Point25,xy, , ,in, deg, , ,N, , ,W, grid, , , ,N
Point26,xy, , ,in, deg, , ,N, , ,W, grid, , , ,N
Point27,xy, , ,in, deg, , ,N, , ,W, grid, , , ,N
Point28,xy, , ,in, deg, , ,N, , ,W, grid, , , ,N
Point29,xy, , ,in, deg, , ,N, , ,W, grid, , , ,N
Point30,xy, , ,in, deg, , ,N, , ,W, grid, , , ,N
Projection Setup, 0.000000000, 33.000000000, 1.000000000, 500000.00, 0.00,,,,,
Map Feature = MF ; Map Comment = MC These follow if they exist
Track File = TF These follow if they exist
Moving Map Parameters = MM? These follow if they exist
MM0,Yes
MMPNUM,4
MMPXY,1,76,84
MMPXY,2,2290,84
MMPXY,3,2290,2541
MMPXY,4,76,2541
MMPLL,1, 34.498140, 53.999781
MMPLL,2, 35.004557, 54.000168
MMPLL,3, 35.001346, 53.668207
MMPLL,4, 34.498920, 53.667783
MM1B,14.991003
MOP,Map Open Position,0,0
IWH,Map Image Width/Height,2366,2625
