OziExplorer Map Data File Version 2.2
100k--n36-079.gif
100k--n36-079.gif
1 ,Map Code,
Pulkovo 1942 (2),WGS 84, 0.0000, 0.0000,WGS 84
Reserved 1
Reserved 2
Magnetic Variation,,,E
Map Projection,Transverse Mercator,PolyCal,No,AutoCalOnly,No,BSBUseWPX,No
Point01,xy, 87, 84,in, deg, 54, 0.0000,N, 33, 0.0000,E, grid, , , ,N
Point02,xy, 1177, 90,in, deg, 54, 0.0000,N, 33, 15.0000,E, grid, , , ,N
Point03,xy, 2266, 90,in, deg, 54, 0.0000,N, 33, 30.0000,E, grid, , , ,N
Point04,xy, 80, 1314,in, deg, 53, 50.0000,N, 33, 0.0000,E, grid, , , ,N
Point05,xy, 1176, 1319,in, deg, 53, 50.0000,N, 33, 15.0000,E, grid, , , ,N
Point06,xy, 2270, 1322,in, deg, 53, 50.0000,N, 33, 30.0000,E, grid, , , ,N
Point07,xy, 74, 2546,in, deg, 53, 40.0000,N, 33, 0.0000,E, grid, , , ,N
Point08,xy, 1175, 2550,in, deg, 53, 40.0000,N, 33, 15.0000,E, grid, , , ,N
Point09,xy, 2274, 2552,in, deg, 53, 40.0000,N, 33, 30.0000,E, grid, , , ,N
Point10,xy, , ,in, deg, , ,N, , ,W, grid, , , ,N
Point11,xy, , ,in, deg, , ,N, , ,W, grid, , , ,N
Point12,xy, , ,in, deg, , ,N, , ,W, grid, , , ,N
Point13,xy, , ,in, deg, , ,N, , ,W, grid, , , ,N
Point14,xy, , ,in, deg, , ,N, , ,W, grid, , , ,N
Point15,xy, , ,in, deg, , ,N, , ,W, grid, , , ,N
Point16,xy, , ,in, deg, , ,N, , ,W, grid, , , ,N
Point17,xy, , ,in, deg, , ,N, , ,W, grid, , , ,N
Point18,xy, , ,in, deg, , ,N, , ,W, grid, , , ,N
Point19,xy, , ,in, deg, , ,N, , ,W, grid, , , ,N
Point20,xy, , ,in, deg, , ,N, , ,W, grid, , , ,N
Point21,xy, , ,in, deg, , ,N, , ,W, grid, , , ,N
Point22,xy, , ,in, deg, , ,N, , ,W, grid, , , ,N
Point23,xy, , ,in, deg, , ,N, , ,W, grid, , , ,N
Point24,xy, , ,in, deg, , ,N, , ,W, grid, , , ,N
Point25,xy, , ,in, deg, , ,N, , ,W, grid, , , ,N
Point26,xy, , ,in, deg, , ,N, , ,W, grid, , , ,N
Point27,xy, , ,in, deg, , ,N, , ,W, grid, , , ,N
Point28,xy, , ,in, deg, , ,N, , ,W, grid, , , ,N
Point29,xy, , ,in, deg, , ,N, , ,W, grid, , , ,N
Point30,xy, , ,in, deg, , ,N, , ,W, grid, , , ,N
Projection Setup, 0.000000000, 33.000000000, 1.000000000, 500000.00, 0.00,,,,,
Map Feature = MF ; Map Comment = MC These follow if they exist
Track File = TF These follow if they exist
Moving Map Parameters = MM? These follow if they exist
MM0,Yes
MMPNUM,4
MMPXY,1,75,84
MMPXY,2,2276,84
MMPXY,3,2276,2548
MMPXY,4,75,2548
MMPLL,1, 32.997450, 53.999981
MMPLL,2, 33.502045, 54.000887
MMPLL,3, 33.500580, 53.667199
MMPLL,4, 32.999981, 53.666290
MM1B,15.027563
MOP,Map Open Position,0,0
IWH,Map Image Width/Height,2351,2632
