OziExplorer Map Data File Version 2.2
100k--n36-070.gif
100k--n36-070.gif
1 ,Map Code,
Pulkovo 1942 (2),WGS 84, 0.0000, 0.0000,WGS 84
Reserved 1
Reserved 2
Magnetic Variation,,,E
Map Projection,Transverse Mercator,PolyCal,No,AutoCalOnly,No,BSBUseWPX,No
Point01,xy, 92, 80,in, deg, 54, 20.0000,N, 34, 30.0000,E, grid, , , ,N
Point02,xy, 1176, 88,in, deg, 54, 20.0000,N, 34, 45.0000,E, grid, , , ,N
Point03,xy, 2259, 90,in, deg, 54, 20.0000,N, 35, 0.0000,E, grid, , , ,N
Point04,xy, 88, 1318,in, deg, 54, 10.0000,N, 34, 30.0000,E, grid, , , ,N
Point05,xy, 1175, 1325,in, deg, 54, 10.0000,N, 34, 45.0000,E, grid, , , ,N
Point06,xy, 2262, 1326,in, deg, 54, 10.0000,N, 35, 0.0000,E, grid, , , ,N
Point07,xy, 80, 2554,in, deg, 54, 0.0000,N, 34, 30.0000,E, grid, , , ,N
Point08,xy, 1172, 2562,in, deg, 54, 0.0000,N, 34, 45.0000,E, grid, , , ,N
Point09,xy, 2267, 2562,in, deg, 54, 0.0000,N, 35, 0.0000,E, grid, , , ,N
Point10,xy, , ,in, deg, , ,N, , ,W, grid, , , ,N
Point11,xy, , ,in, deg, , ,N, , ,W, grid, , , ,N
Point12,xy, , ,in, deg, , ,N, , ,W, grid, , , ,N
Point13,xy, , ,in, deg, , ,N, , ,W, grid, , , ,N
Point14,xy, , ,in, deg, , ,N, , ,W, grid, , , ,N
Point15,xy, , ,in, deg, , ,N, , ,W, grid, , , ,N
Point16,xy, , ,in, deg, , ,N, , ,W, grid, , , ,N
Point17,xy, , ,in, deg, , ,N, , ,W, grid, , , ,N
Point18,xy, , ,in, deg, , ,N, , ,W, grid, , , ,N
Point19,xy, , ,in, deg, , ,N, , ,W, grid, , , ,N
Point20,xy, , ,in, deg, , ,N, , ,W, grid, , , ,N
Point21,xy, , ,in, deg, , ,N, , ,W, grid, , , ,N
Point22,xy, , ,in, deg, , ,N, , ,W, grid, , , ,N
Point23,xy, , ,in, deg, , ,N, , ,W, grid, , , ,N
Point24,xy, , ,in, deg, , ,N, , ,W, grid, , , ,N
Point25,xy, , ,in, deg, , ,N, , ,W, grid, , , ,N
Point26,xy, , ,in, deg, , ,N, , ,W, grid, , , ,N
Point27,xy, , ,in, deg, , ,N, , ,W, grid, , , ,N
Point28,xy, , ,in, deg, , ,N, , ,W, grid, , , ,N
Point29,xy, , ,in, deg, , ,N, , ,W, grid, , , ,N
Point30,xy, , ,in, deg, , ,N, , ,W, grid, , , ,N
Projection Setup, 0.000000000, 33.000000000, 1.000000000, 500000.00, 0.00,,,,,
Map Feature = MF ; Map Comment = MC These follow if they exist
Track File = TF These follow if they exist
Moving Map Parameters = MM? These follow if they exist
MM0,Yes
MMPNUM,4
MMPXY,1,75,85
MMPXY,2,2263,85
MMPXY,3,2263,2560
MMPXY,4,75,2560
MMPLL,1, 34.496022, 54.332805
MMPLL,2, 35.000807, 54.333970
MMPLL,3, 34.999408, 54.000431
MMPLL,4, 34.498668, 53.999238
MM1B,14.998136
MOP,Map Open Position,0,0
IWH,Map Image Width/Height,2338,2645
