OziExplorer Map Data File Version 2.2
100k--n36-068.gif
100k--n36-068.gif
1 ,Map Code,
Pulkovo 1942 (2),WGS 84, 0.0000, 0.0000,WGS 84
Reserved 1
Reserved 2
Magnetic Variation,,,E
Map Projection,Transverse Mercator,PolyCal,No,AutoCalOnly,No,BSBUseWPX,No
Point01,xy, 90, 72,in, deg, 54, 20.0000,N, 33, 30.0000,E, grid, , , ,N
Point02,xy, 1173, 83,in, deg, 54, 20.0000,N, 33, 45.0000,E, grid, , , ,N
Point03,xy, 2258, 90,in, deg, 54, 20.0000,N, 34, 0.0000,E, grid, , , ,N
Point04,xy, 80, 1306,in, deg, 54, 10.0000,N, 33, 30.0000,E, grid, , , ,N
Point05,xy, 1169, 1314,in, deg, 54, 10.0000,N, 33, 45.0000,E, grid, , , ,N
Point06,xy, 2256, 1322,in, deg, 54, 10.0000,N, 34, 0.0000,E, grid, , , ,N
Point07,xy, 71, 2540,in, deg, 54, 0.0000,N, 33, 30.0000,E, grid, , , ,N
Point08,xy, 1164, 2550,in, deg, 54, 0.0000,N, 33, 45.0000,E, grid, , , ,N
Point09,xy, 2256, 2558,in, deg, 54, 0.0000,N, 34, 0.0000,E, grid, , , ,N
Point10,xy, , ,in, deg, , ,N, , ,W, grid, , , ,N
Point11,xy, , ,in, deg, , ,N, , ,W, grid, , , ,N
Point12,xy, , ,in, deg, , ,N, , ,W, grid, , , ,N
Point13,xy, , ,in, deg, , ,N, , ,W, grid, , , ,N
Point14,xy, , ,in, deg, , ,N, , ,W, grid, , , ,N
Point15,xy, , ,in, deg, , ,N, , ,W, grid, , , ,N
Point16,xy, , ,in, deg, , ,N, , ,W, grid, , , ,N
Point17,xy, , ,in, deg, , ,N, , ,W, grid, , , ,N
Point18,xy, , ,in, deg, , ,N, , ,W, grid, , , ,N
Point19,xy, , ,in, deg, , ,N, , ,W, grid, , , ,N
Point20,xy, , ,in, deg, , ,N, , ,W, grid, , , ,N
Point21,xy, , ,in, deg, , ,N, , ,W, grid, , , ,N
Point22,xy, , ,in, deg, , ,N, , ,W, grid, , , ,N
Point23,xy, , ,in, deg, , ,N, , ,W, grid, , , ,N
Point24,xy, , ,in, deg, , ,N, , ,W, grid, , , ,N
Point25,xy, , ,in, deg, , ,N, , ,W, grid, , , ,N
Point26,xy, , ,in, deg, , ,N, , ,W, grid, , , ,N
Point27,xy, , ,in, deg, , ,N, , ,W, grid, , , ,N
Point28,xy, , ,in, deg, , ,N, , ,W, grid, , , ,N
Point29,xy, , ,in, deg, , ,N, , ,W, grid, , , ,N
Point30,xy, , ,in, deg, , ,N, , ,W, grid, , , ,N
Projection Setup, 0.000000000, 33.000000000, 1.000000000, 500000.00, 0.00,,,,,
Map Feature = MF ; Map Comment = MC These follow if they exist
Track File = TF These follow if they exist
Moving Map Parameters = MM? These follow if they exist
MM0,Yes
MMPNUM,4
MMPXY,1,75,84
MMPXY,2,2263,84
MMPXY,3,2263,2548
MMPXY,4,75,2548
MMPLL,1, 33.496615, 54.331678
MMPLL,2, 34.001303, 54.334030
MMPLL,3, 34.001579, 54.001208
MMPLL,4, 33.500926, 53.998853
MM1B,14.997448
MOP,Map Open Position,0,0
IWH,Map Image Width/Height,2338,2632
