OziExplorer Map Data File Version 2.2
100k--n36-055.gif
100k--n36-055.gif
1 ,Map Code,
Pulkovo 1942 (2),WGS 84, 0.0000, 0.0000,WGS 84
Reserved 1
Reserved 2
Magnetic Variation,,,E
Map Projection,Transverse Mercator,PolyCal,No,AutoCalOnly,No,BSBUseWPX,No
Point01,xy, 77, 77,in, deg, 54, 40.0000,N, 33, 0.0000,E, grid, , , ,N
Point02,xy, 1149, 80,in, deg, 54, 40.0000,N, 33, 15.0000,E, grid, , , ,N
Point03,xy, 2220, 76,in, deg, 54, 40.0000,N, 33, 30.0000,E, grid, , , ,N
Point04,xy, 77, 1313,in, deg, 54, 30.0000,N, 33, 0.0000,E, grid, , , ,N
Point05,xy, 1154, 1315,in, deg, 54, 30.0000,N, 33, 15.0000,E, grid, , , ,N
Point06,xy, 2230, 1311,in, deg, 54, 30.0000,N, 33, 30.0000,E, grid, , , ,N
Point07,xy, 76, 2549,in, deg, 54, 20.0000,N, 33, 0.0000,E, grid, , , ,N
Point08,xy, 1162, 2550,in, deg, 54, 20.0000,N, 33, 15.0000,E, grid, , , ,N
Point09,xy, 2242, 2546,in, deg, 54, 20.0000,N, 33, 30.0000,E, grid, , , ,N
Point10,xy, , ,in, deg, , ,N, , ,W, grid, , , ,N
Point11,xy, , ,in, deg, , ,N, , ,W, grid, , , ,N
Point12,xy, , ,in, deg, , ,N, , ,W, grid, , , ,N
Point13,xy, , ,in, deg, , ,N, , ,W, grid, , , ,N
Point14,xy, , ,in, deg, , ,N, , ,W, grid, , , ,N
Point15,xy, , ,in, deg, , ,N, , ,W, grid, , , ,N
Point16,xy, , ,in, deg, , ,N, , ,W, grid, , , ,N
Point17,xy, , ,in, deg, , ,N, , ,W, grid, , , ,N
Point18,xy, , ,in, deg, , ,N, , ,W, grid, , , ,N
Point19,xy, , ,in, deg, , ,N, , ,W, grid, , , ,N
Point20,xy, , ,in, deg, , ,N, , ,W, grid, , , ,N
Point21,xy, , ,in, deg, , ,N, , ,W, grid, , , ,N
Point22,xy, , ,in, deg, , ,N, , ,W, grid, , , ,N
Point23,xy, , ,in, deg, , ,N, , ,W, grid, , , ,N
Point24,xy, , ,in, deg, , ,N, , ,W, grid, , , ,N
Point25,xy, , ,in, deg, , ,N, , ,W, grid, , , ,N
Point26,xy, , ,in, deg, , ,N, , ,W, grid, , , ,N
Point27,xy, , ,in, deg, , ,N, , ,W, grid, , , ,N
Point28,xy, , ,in, deg, , ,N, , ,W, grid, , , ,N
Point29,xy, , ,in, deg, , ,N, , ,W, grid, , , ,N
Point30,xy, , ,in, deg, , ,N, , ,W, grid, , , ,N
Projection Setup, 0.000000000, 33.000000000, 1.000000000, 500000.00, 0.00,,,,,
Map Feature = MF ; Map Comment = MC These follow if they exist
Track File = TF These follow if they exist
Moving Map Parameters = MM? These follow if they exist
MM0,Yes
MMPNUM,4
MMPXY,1,74,84
MMPXY,2,2243,84
MMPXY,3,2243,2536
MMPXY,4,74,2536
MMPLL,1, 32.999574, 54.665860
MMPLL,2, 33.505098, 54.665576
MMPLL,3, 33.500446, 54.334775
MMPLL,4, 32.998988, 54.335043
MM1B,15.032932
MOP,Map Open Position,0,0
IWH,Map Image Width/Height,2317,2620
