OziExplorer Map Data File Version 2.2
100k--n36-041.gif
100k--n36-041.gif
1 ,Map Code,
Pulkovo 1942 (2),WGS 84, 0.0000, 0.0000,WGS 84
Reserved 1
Reserved 2
Magnetic Variation,,,E
Map Projection,Transverse Mercator,PolyCal,No,AutoCalOnly,No,BSBUseWPX,No
Point01,xy, 76, 70,in, deg, 55, 0.0000,N, 32, 0.0000,E, grid, , , ,N
Point02,xy, 1140, 78,in, deg, 55, 0.0000,N, 32, 15.0000,E, grid, , , ,N
Point03,xy, 2206, 76,in, deg, 55, 0.0000,N, 32, 30.0000,E, grid, , , ,N
Point04,xy, 72, 1308,in, deg, 54, 50.0000,N, 32, 0.0000,E, grid, , , ,N
Point05,xy, 1144, 1312,in, deg, 54, 50.0000,N, 32, 15.0000,E, grid, , , ,N
Point06,xy, 2212, 1314,in, deg, 54, 50.0000,N, 32, 30.0000,E, grid, , , ,N
Point07,xy, 70, 2546,in, deg, 54, 40.0000,N, 32, 0.0000,E, grid, , , ,N
Point08,xy, 1146, 2546,in, deg, 54, 40.0000,N, 32, 15.0000,E, grid, , , ,N
Point09,xy, 2220, 2548,in, deg, 54, 40.0000,N, 32, 30.0000,E, grid, , , ,N
Point10,xy, , ,in, deg, , ,N, , ,W, grid, , , ,N
Point11,xy, , ,in, deg, , ,N, , ,W, grid, , , ,N
Point12,xy, , ,in, deg, , ,N, , ,W, grid, , , ,N
Point13,xy, , ,in, deg, , ,N, , ,W, grid, , , ,N
Point14,xy, , ,in, deg, , ,N, , ,W, grid, , , ,N
Point15,xy, , ,in, deg, , ,N, , ,W, grid, , , ,N
Point16,xy, , ,in, deg, , ,N, , ,W, grid, , , ,N
Point17,xy, , ,in, deg, , ,N, , ,W, grid, , , ,N
Point18,xy, , ,in, deg, , ,N, , ,W, grid, , , ,N
Point19,xy, , ,in, deg, , ,N, , ,W, grid, , , ,N
Point20,xy, , ,in, deg, , ,N, , ,W, grid, , , ,N
Point21,xy, , ,in, deg, , ,N, , ,W, grid, , , ,N
Point22,xy, , ,in, deg, , ,N, , ,W, grid, , , ,N
Point23,xy, , ,in, deg, , ,N, , ,W, grid, , , ,N
Point24,xy, , ,in, deg, , ,N, , ,W, grid, , , ,N
Point25,xy, , ,in, deg, , ,N, , ,W, grid, , , ,N
Point26,xy, , ,in, deg, , ,N, , ,W, grid, , , ,N
Point27,xy, , ,in, deg, , ,N, , ,W, grid, , , ,N
Point28,xy, , ,in, deg, , ,N, , ,W, grid, , , ,N
Point29,xy, , ,in, deg, , ,N, , ,W, grid, , , ,N
Point30,xy, , ,in, deg, , ,N, , ,W, grid, , , ,N
Projection Setup, 0.000000000, 33.000000000, 1.000000000, 500000.00, 0.00,,,,,
Map Feature = MF ; Map Comment = MC These follow if they exist
Track File = TF These follow if they exist
Moving Map Parameters = MM? These follow if they exist
MM0,Yes
MMPNUM,4
MMPXY,1,73,84
MMPXY,2,2207,84
MMPXY,3,2207,2536
MMPXY,4,73,2536
MMPLL,1, 31.999544, 54.998367
MMPLL,2, 32.500191, 54.999001
MMPLL,3, 32.497077, 54.668363
MMPLL,4, 32.000506, 54.667738
MM1B,15.007955
MOP,Map Open Position,0,0
IWH,Map Image Width/Height,2280,2620
