OziExplorer Map Data File Version 2.2
100k--n36-018.gif
100k--n36-018.gif
1 ,Map Code,
Pulkovo 1942 (2),WGS 84, 0.0000, 0.0000,WGS 84
Reserved 1
Reserved 2
Magnetic Variation,,,E
Map Projection,Transverse Mercator,PolyCal,No,AutoCalOnly,No,BSBUseWPX,No
Point01,xy, 76, 76,in, deg, 55, 40.0000,N, 32, 30.0000,E, grid, , , ,N
Point02,xy, 1124, 80,ex, deg, 55, 40.0000,N, 32, 45.0000,E, grid, , , ,N
Point03,xy, 2170, 80,in, deg, 55, 40.0000,N, 33, 0.0000,E, grid, , , ,N
Point04,xy, 72, 1313,in, deg, 55, 30.0000,N, 32, 30.0000,E, grid, , , ,N
Point05,xy, 1126, 1314,in, deg, 55, 30.0000,N, 32, 45.0000,E, grid, , , ,N
Point06,xy, 2177, 1316,in, deg, 55, 30.0000,N, 33, 0.0000,E, grid, , , ,N
Point07,xy, 68, 2546,in, deg, 55, 20.0000,N, 32, 30.0000,E, grid, , , ,N
Point08,xy, 1128, 2550,in, deg, 55, 20.0000,N, 32, 45.0000,E, grid, , , ,N
Point09,xy, 2186, 2550,in, deg, 55, 20.0000,N, 33, 0.0000,E, grid, , , ,N
Point10,xy, , ,in, deg, , ,N, , ,W, grid, , , ,N
Point11,xy, , ,in, deg, , ,N, , ,W, grid, , , ,N
Point12,xy, , ,in, deg, , ,N, , ,W, grid, , , ,N
Point13,xy, , ,in, deg, , ,N, , ,W, grid, , , ,N
Point14,xy, , ,in, deg, , ,N, , ,W, grid, , , ,N
Point15,xy, , ,in, deg, , ,N, , ,W, grid, , , ,N
Point16,xy, , ,in, deg, , ,N, , ,W, grid, , , ,N
Point17,xy, , ,in, deg, , ,N, , ,W, grid, , , ,N
Point18,xy, , ,in, deg, , ,N, , ,W, grid, , , ,N
Point19,xy, , ,in, deg, , ,N, , ,W, grid, , , ,N
Point20,xy, , ,in, deg, , ,N, , ,W, grid, , , ,N
Point21,xy, , ,in, deg, , ,N, , ,W, grid, , , ,N
Point22,xy, , ,in, deg, , ,N, , ,W, grid, , , ,N
Point23,xy, , ,in, deg, , ,N, , ,W, grid, , , ,N
Point24,xy, , ,in, deg, , ,N, , ,W, grid, , , ,N
Point25,xy, , ,in, deg, , ,N, , ,W, grid, , , ,N
Point26,xy, , ,in, deg, , ,N, , ,W, grid, , , ,N
Point27,xy, , ,in, deg, , ,N, , ,W, grid, , , ,N
Point28,xy, , ,in, deg, , ,N, , ,W, grid, , , ,N
Point29,xy, , ,in, deg, , ,N, , ,W, grid, , , ,N
Point30,xy, , ,in, deg, , ,N, , ,W, grid, , , ,N
Projection Setup, 0.000000000, 33.000000000, 1.000000000, 500000.00, 0.00,,,,,
Map Feature = MF ; Map Comment = MC These follow if they exist
Track File = TF These follow if they exist
Moving Map Parameters = MM? These follow if they exist
MM0,Yes
MMPNUM,4
MMPXY,1,72,84
MMPXY,2,2184,84
MMPXY,3,2184,2541
MMPXY,4,72,2541
MMPLL,1, 32.499399, 55.665649
MMPLL,2, 33.003020, 55.666143
MMPLL,3, 32.999878, 55.334558
MMPLL,4, 32.500471, 55.334064
MM1B,15.000360
MOP,Map Open Position,0,0
IWH,Map Image Width/Height,2256,2625
