OziExplorer Map Data File Version 2.2
100k--n36-010.gif
100k--n36-010.gif
1 ,Map Code,
Pulkovo 1942 (2),WGS 84, 0.0000, 0.0000,WGS 84
Reserved 1
Reserved 2
Magnetic Variation,,,E
Map Projection,Transverse Mercator,PolyCal,No,AutoCalOnly,No,BSBUseWPX,No
Point01,xy, 98, 95,in, deg, 56, 0.0000,N, 34, 30.0000,E, grid, , , ,N
Point02,xy, 1318, 96,in, deg, 56, 0.0000,N, 34, 45.0000,E, grid, , , ,N
Point03,xy, 2536, 93,in, deg, 56, 0.0000,N, 35, 0.0000,E, grid, , , ,N
Point04,xy, 97, 1539,in, deg, 55, 50.0000,N, 34, 30.0000,E, grid, , , ,N
Point05,xy, 1322, 1539,in, deg, 55, 50.0000,N, 34, 45.0000,E, grid, , , ,N
Point06,xy, 2545, 1536,in, deg, 55, 50.0000,N, 35, 0.0000,E, grid, , , ,N
Point07,xy, 97, 2985,in, deg, 55, 40.0000,N, 34, 30.0000,E, grid, , , ,N
Point08,xy, 1326, 2984,in, deg, 55, 40.0000,N, 34, 45.0000,E, grid, , , ,N
Point09,xy, 2557, 2981,in, deg, 55, 40.0000,N, 35, 0.0000,E, grid, , , ,N
Point10,xy, , ,in, deg, , ,N, , ,W, grid, , , ,N
Point11,xy, , ,in, deg, , ,N, , ,W, grid, , , ,N
Point12,xy, , ,in, deg, , ,N, , ,W, grid, , , ,N
Point13,xy, , ,in, deg, , ,N, , ,W, grid, , , ,N
Point14,xy, , ,in, deg, , ,N, , ,W, grid, , , ,N
Point15,xy, , ,in, deg, , ,N, , ,W, grid, , , ,N
Point16,xy, , ,in, deg, , ,N, , ,W, grid, , , ,N
Point17,xy, , ,in, deg, , ,N, , ,W, grid, , , ,N
Point18,xy, , ,in, deg, , ,N, , ,W, grid, , , ,N
Point19,xy, , ,in, deg, , ,N, , ,W, grid, , , ,N
Point20,xy, , ,in, deg, , ,N, , ,W, grid, , , ,N
Point21,xy, , ,in, deg, , ,N, , ,W, grid, , , ,N
Point22,xy, , ,in, deg, , ,N, , ,W, grid, , , ,N
Point23,xy, , ,in, deg, , ,N, , ,W, grid, , , ,N
Point24,xy, , ,in, deg, , ,N, , ,W, grid, , , ,N
Point25,xy, , ,in, deg, , ,N, , ,W, grid, , , ,N
Point26,xy, , ,in, deg, , ,N, , ,W, grid, , , ,N
Point27,xy, , ,in, deg, , ,N, , ,W, grid, , , ,N
Point28,xy, , ,in, deg, , ,N, , ,W, grid, , , ,N
Point29,xy, , ,in, deg, , ,N, , ,W, grid, , , ,N
Point30,xy, , ,in, deg, , ,N, , ,W, grid, , , ,N
Projection Setup, 0.000000000, 33.000000000, 1.000000000, 500000.00, 0.00,,,,,
Map Feature = MF ; Map Comment = MC These follow if they exist
Track File = TF These follow if they exist
Moving Map Parameters = MM? These follow if they exist
MM0,Yes
MMPNUM,4
MMPXY,1,98,95
MMPXY,2,2536,93
MMPXY,3,2557,2981
MMPXY,4,97,2985
MMPLL,1, 34.500000, 56.000000
MMPLL,2, 35.000000, 56.000000
MMPLL,3, 35.000000, 55.666667
MMPLL,4, 34.500000, 55.666667
MM1B,12.032520
MOP,Map Open Position,0,0
IWH,Map Image Width/Height,2647,3075
