OziExplorer Map Data File Version 2.2
500k--n32-2.gif
500k--n32-2.gif
1 ,Map Code,
Pulkovo 1942 (2),WGS 84, 0.0000, 0.0000,WGS 84
Reserved 1
Reserved 2
Magnetic Variation,,,E
Map Projection,Transverse Mercator,PolyCal,No,AutoCalOnly,No,BSBUseWPX,No
Point01,xy, 153, 72,in, deg, 56, 0.0000,N, 9, 0.0000,E, grid, , , ,N
Point02,xy, 1593, 83,ex, deg, 56, 0.0000,N, 10, 30.0000,E, grid, , , ,N
Point03,xy, 3078, 73,in, deg, 56, 0.0000,N, 12, 0.0000,E, grid, , , ,N
Point04,xy, 103, 1772,ex, deg, 55, 0.0000,N, 9, 0.0000,E, grid, , , ,N
Point05,xy, 1557, 1772,ex, deg, 55, 0.0000,N, 10, 30.0000,E, grid, , , ,N
Point06,xy, 3113, 1772,ex, deg, 55, 0.0000,N, 12, 0.0000,E, grid, , , ,N
Point07,xy, 66, 3569,in, deg, 54, 0.0000,N, 9, 0.0000,E, grid, , , ,N
Point08,xy, 1583, 3588,ex, deg, 54, 0.0000,N, 10, 30.0000,E, grid, , , ,N
Point09,xy, 3152, 3575,in, deg, 54, 0.0000,N, 12, 0.0000,E, grid, , , ,N
Point10,xy, , ,in, deg, , ,N, , ,W, grid, , , ,N
Point11,xy, , ,in, deg, , ,N, , ,W, grid, , , ,N
Point12,xy, , ,in, deg, , ,N, , ,W, grid, , , ,N
Point13,xy, , ,in, deg, , ,N, , ,W, grid, , , ,N
Point14,xy, , ,in, deg, , ,N, , ,W, grid, , , ,N
Point15,xy, , ,in, deg, , ,N, , ,W, grid, , , ,N
Point16,xy, , ,in, deg, , ,N, , ,W, grid, , , ,N
Point17,xy, , ,in, deg, , ,N, , ,W, grid, , , ,N
Point18,xy, , ,in, deg, , ,N, , ,W, grid, , , ,N
Point19,xy, , ,in, deg, , ,N, , ,W, grid, , , ,N
Point20,xy, , ,in, deg, , ,N, , ,W, grid, , , ,N
Point21,xy, , ,in, deg, , ,N, , ,W, grid, , , ,N
Point22,xy, , ,in, deg, , ,N, , ,W, grid, , , ,N
Point23,xy, , ,in, deg, , ,N, , ,W, grid, , , ,N
Point24,xy, , ,in, deg, , ,N, , ,W, grid, , , ,N
Point25,xy, , ,in, deg, , ,N, , ,W, grid, , , ,N
Point26,xy, , ,in, deg, , ,N, , ,W, grid, , , ,N
Point27,xy, , ,in, deg, , ,N, , ,W, grid, , , ,N
Point28,xy, , ,in, deg, , ,N, , ,W, grid, , , ,N
Point29,xy, , ,in, deg, , ,N, , ,W, grid, , , ,N
Point30,xy, , ,in, deg, , ,N, , ,W, grid, , , ,N
Projection Setup, 0.000000000, 9.000000000, 1.000000000, 500000.00, 0.00,,,,,
Map Feature = MF ; Map Comment = MC These follow if they exist
Track File = TF These follow if they exist
Moving Map Parameters = MM? These follow if they exist
MM0,Yes
MMPNUM,4
MMPXY,1,153,72
MMPXY,2,3078,73
MMPXY,3,3152,3575
MMPXY,4,66,3569
MMPLL,1, 9.000000, 56.000000
MMPLL,2, 12.000000, 56.000000
MMPLL,3, 12.000000, 54.000000
MMPLL,4, 9.000000, 54.000000
MM1B,60.655738
MOP,Map Open Position,0,0
IWH,Map Image Width/Height,3216,3660
