OziExplorer Map Data File Version 2.2
200k--n32-35.gif
200k--n32-35.gif
1 ,Map Code,
Pulkovo 1942 (2),WGS 84, 0.0000, 0.0000,WGS 84
Reserved 1
Reserved 2
Magnetic Variation,,,E
Map Projection,Transverse Mercator,PolyCal,No,AutoCalOnly,No,BSBUseWPX,No
Point01,xy, 106, 96,in, deg, 52, 40.0000,N, 10, 0.0000,E, grid, , , ,N
Point02,xy, 1421, 97,in, deg, 52, 40.0000,N, 10, 30.0000,E, grid, , , ,N
Point03,xy, 2737, 91,in, deg, 52, 40.0000,N, 11, 0.0000,E, grid, , , ,N
Point04,xy, 97, 1543,in, deg, 52, 20.0000,N, 10, 0.0000,E, grid, , , ,N
Point05,xy, 1421, 1544,in, deg, 52, 20.0000,N, 10, 30.0000,E, grid, , , ,N
Point06,xy, 2747, 1535,in, deg, 52, 20.0000,N, 11, 0.0000,E, grid, , , ,N
Point07,xy, 90, 2990,in, deg, 52, 0.0000,N, 10, 0.0000,E, grid, , , ,N
Point08,xy, 1424, 2990,in, deg, 52, 0.0000,N, 10, 30.0000,E, grid, , , ,N
Point09,xy, 2760, 2978,in, deg, 52, 0.0000,N, 11, 0.0000,E, grid, , , ,N
Point10,xy, , ,in, deg, , ,N, , ,W, grid, , , ,N
Point11,xy, , ,in, deg, , ,N, , ,W, grid, , , ,N
Point12,xy, , ,in, deg, , ,N, , ,W, grid, , , ,N
Point13,xy, , ,in, deg, , ,N, , ,W, grid, , , ,N
Point14,xy, , ,in, deg, , ,N, , ,W, grid, , , ,N
Point15,xy, , ,in, deg, , ,N, , ,W, grid, , , ,N
Point16,xy, , ,in, deg, , ,N, , ,W, grid, , , ,N
Point17,xy, , ,in, deg, , ,N, , ,W, grid, , , ,N
Point18,xy, , ,in, deg, , ,N, , ,W, grid, , , ,N
Point19,xy, , ,in, deg, , ,N, , ,W, grid, , , ,N
Point20,xy, , ,in, deg, , ,N, , ,W, grid, , , ,N
Point21,xy, , ,in, deg, , ,N, , ,W, grid, , , ,N
Point22,xy, , ,in, deg, , ,N, , ,W, grid, , , ,N
Point23,xy, , ,in, deg, , ,N, , ,W, grid, , , ,N
Point24,xy, , ,in, deg, , ,N, , ,W, grid, , , ,N
Point25,xy, , ,in, deg, , ,N, , ,W, grid, , , ,N
Point26,xy, , ,in, deg, , ,N, , ,W, grid, , , ,N
Point27,xy, , ,in, deg, , ,N, , ,W, grid, , , ,N
Point28,xy, , ,in, deg, , ,N, , ,W, grid, , , ,N
Point29,xy, , ,in, deg, , ,N, , ,W, grid, , , ,N
Point30,xy, , ,in, deg, , ,N, , ,W, grid, , , ,N
Projection Setup, 0.000000000, 9.000000000, 1.000000000, 500000.00, 0.00,,,,,
Map Feature = MF ; Map Comment = MC These follow if they exist
Track File = TF These follow if they exist
Moving Map Parameters = MM? These follow if they exist
MM0,Yes
MMPNUM,4
MMPXY,1,106,96
MMPXY,2,2737,91
MMPXY,3,2760,2978
MMPXY,4,90,2990
MMPLL,1, 10.000000, 52.666667
MMPLL,2, 11.000000, 52.666667
MMPLL,3, 11.000000, 52.000000
MMPLL,4, 10.000000, 52.000000
MM1B,23.994812
MOP,Map Open Position,0,0
IWH,Map Image Width/Height,2856,3084
