OziExplorer Map Data File Version 2.2
500k--m50-4.gif
500k--m50-4.gif
1 ,Map Code,
Pulkovo 1942 (2),WGS 84, 0.0000, 0.0000,WGS 84
Reserved 1
Reserved 2
Magnetic Variation,,,E
Map Projection,Transverse Mercator,PolyCal,No,AutoCalOnly,No,BSBUseWPX,No
Point01,xy, 151, 91,in, deg, 50, 0.0000,N, 117, 0.0000,E, grid, , , ,N
Point02,xy, 1839, 111,in, deg, 50, 0.0000,N, 118, 30.0000,E, grid, , , ,N
Point03,xy, 3534, 95,in, deg, 50, 0.0000,N, 120, 0.0000,E, grid, , , ,N
Point04,xy, 111, 1826,in, deg, 49, 0.0000,N, 117, 0.0000,E, grid, , , ,N
Point05,xy, 1835, 1847,in, deg, 49, 0.0000,N, 118, 30.0000,E, grid, , , ,N
Point06,xy, 3567, 1830,in, deg, 49, 0.0000,N, 120, 0.0000,E, grid, , , ,N
Point07,xy, 73, 3561,in, deg, 48, 0.0000,N, 117, 0.0000,E, grid, , , ,N
Point08,xy, 1832, 3582,in, deg, 48, 0.0000,N, 118, 30.0000,E, grid, , , ,N
Point09,xy, 3599, 3565,in, deg, 48, 0.0000,N, 120, 0.0000,E, grid, , , ,N
Point10,xy, , ,in, deg, , ,N, , ,W, grid, , , ,N
Point11,xy, , ,in, deg, , ,N, , ,W, grid, , , ,N
Point12,xy, , ,in, deg, , ,N, , ,W, grid, , , ,N
Point13,xy, , ,in, deg, , ,N, , ,W, grid, , , ,N
Point14,xy, , ,in, deg, , ,N, , ,W, grid, , , ,N
Point15,xy, , ,in, deg, , ,N, , ,W, grid, , , ,N
Point16,xy, , ,in, deg, , ,N, , ,W, grid, , , ,N
Point17,xy, , ,in, deg, , ,N, , ,W, grid, , , ,N
Point18,xy, , ,in, deg, , ,N, , ,W, grid, , , ,N
Point19,xy, , ,in, deg, , ,N, , ,W, grid, , , ,N
Point20,xy, , ,in, deg, , ,N, , ,W, grid, , , ,N
Point21,xy, , ,in, deg, , ,N, , ,W, grid, , , ,N
Point22,xy, , ,in, deg, , ,N, , ,W, grid, , , ,N
Point23,xy, , ,in, deg, , ,N, , ,W, grid, , , ,N
Point24,xy, , ,in, deg, , ,N, , ,W, grid, , , ,N
Point25,xy, , ,in, deg, , ,N, , ,W, grid, , , ,N
Point26,xy, , ,in, deg, , ,N, , ,W, grid, , , ,N
Point27,xy, , ,in, deg, , ,N, , ,W, grid, , , ,N
Point28,xy, , ,in, deg, , ,N, , ,W, grid, , , ,N
Point29,xy, , ,in, deg, , ,N, , ,W, grid, , , ,N
Point30,xy, , ,in, deg, , ,N, , ,W, grid, , , ,N
Projection Setup, 0.000000000, 117.000000000, 1.000000000, 500000.00, 0.00,,,,,
Map Feature = MF ; Map Comment = MC These follow if they exist
Track File = TF These follow if they exist
Moving Map Parameters = MM? These follow if they exist
MM0,Yes
MMPNUM,4
MMPXY,1,151,91
MMPXY,2,3534,95
MMPXY,3,3599,3565
MMPXY,4,73,3561
MMPLL,1, 117.000000, 50.000000
MMPLL,2, 120.000000, 50.000000
MMPLL,3, 120.000000, 48.000000
MMPLL,4, 117.000000, 48.000000
MM1B,60.688901
MOP,Map Open Position,0,0
IWH,Map Image Width/Height,3653,3658
