OziExplorer Map Data File Version 2.2
200k--m50-35.gif
200k--m50-35.gif
1 ,Map Code,
Pulkovo 1942 (2),WGS 84, 0.0000, 0.0000,WGS 84
Reserved 1
Reserved 2
Magnetic Variation,,,E
Map Projection,Transverse Mercator,PolyCal,No,AutoCalOnly,No,BSBUseWPX,No
Point01,xy, 108, 94,in, deg, 48, 40.0000,N, 118, 0.0000,E, grid, , , ,N
Point02,xy, 1563, 100,in, deg, 48, 40.0000,N, 118, 30.0000,E, grid, , , ,N
Point03,xy, 3018, 97,in, deg, 48, 40.0000,N, 119, 0.0000,E, grid, , , ,N
Point04,xy, 98, 1553,in, deg, 48, 20.0000,N, 118, 0.0000,E, grid, , , ,N
Point05,xy, 1561, 1560,in, deg, 48, 20.0000,N, 118, 30.0000,E, grid, , , ,N
Point06,xy, 3028, 1559,in, deg, 48, 20.0000,N, 119, 0.0000,E, grid, , , ,N
Point07,xy, 88, 3014,in, deg, 48, 0.0000,N, 118, 0.0000,E, grid, , , ,N
Point08,xy, 1562, 3022,in, deg, 48, 0.0000,N, 118, 30.0000,E, grid, , , ,N
Point09,xy, 3036, 3018,in, deg, 48, 0.0000,N, 119, 0.0000,E, grid, , , ,N
Point10,xy, , ,in, deg, , ,N, , ,W, grid, , , ,N
Point11,xy, , ,in, deg, , ,N, , ,W, grid, , , ,N
Point12,xy, , ,in, deg, , ,N, , ,W, grid, , , ,N
Point13,xy, , ,in, deg, , ,N, , ,W, grid, , , ,N
Point14,xy, , ,in, deg, , ,N, , ,W, grid, , , ,N
Point15,xy, , ,in, deg, , ,N, , ,W, grid, , , ,N
Point16,xy, , ,in, deg, , ,N, , ,W, grid, , , ,N
Point17,xy, , ,in, deg, , ,N, , ,W, grid, , , ,N
Point18,xy, , ,in, deg, , ,N, , ,W, grid, , , ,N
Point19,xy, , ,in, deg, , ,N, , ,W, grid, , , ,N
Point20,xy, , ,in, deg, , ,N, , ,W, grid, , , ,N
Point21,xy, , ,in, deg, , ,N, , ,W, grid, , , ,N
Point22,xy, , ,in, deg, , ,N, , ,W, grid, , , ,N
Point23,xy, , ,in, deg, , ,N, , ,W, grid, , , ,N
Point24,xy, , ,in, deg, , ,N, , ,W, grid, , , ,N
Point25,xy, , ,in, deg, , ,N, , ,W, grid, , , ,N
Point26,xy, , ,in, deg, , ,N, , ,W, grid, , , ,N
Point27,xy, , ,in, deg, , ,N, , ,W, grid, , , ,N
Point28,xy, , ,in, deg, , ,N, , ,W, grid, , , ,N
Point29,xy, , ,in, deg, , ,N, , ,W, grid, , , ,N
Point30,xy, , ,in, deg, , ,N, , ,W, grid, , , ,N
Projection Setup, 0.000000000, 117.000000000, 1.000000000, 500000.00, 0.00,,,,,
Map Feature = MF ; Map Comment = MC These follow if they exist
Track File = TF These follow if they exist
Moving Map Parameters = MM? These follow if they exist
MM0,Yes
MMPNUM,4
MMPXY,1,100,99
MMPXY,2,3018,99
MMPXY,3,3018,3002
MMPXY,4,100,3002
MMPLL,1, 117.997320, 48.665361
MMPLL,2, 118.999978, 48.666290
MMPLL,3, 118.993878, 48.003825
MMPLL,4, 118.004131, 48.002764
MM1B,25.298892
MOP,Map Open Position,0,0
IWH,Map Image Width/Height,3118,3101
