OziExplorer Map Data File Version 2.2
200k--m50-30.gif
200k--m50-30.gif
1 ,Map Code,
Pulkovo 1942 (2),WGS 84, 0.0000, 0.0000,WGS 84
Reserved 1
Reserved 2
Magnetic Variation,,,E
Map Projection,Transverse Mercator,PolyCal,No,AutoCalOnly,No,BSBUseWPX,No
Point01,xy, 101, 88,in, deg, 49, 20.0000,N, 119, 0.0000,E, grid, , , ,N
Point02,xy, 1537, 90,in, deg, 49, 20.0000,N, 119, 30.0000,E, grid, , , ,N
Point03,xy, 2976, 84,in, deg, 49, 20.0000,N, 120, 0.0000,E, grid, , , ,N
Point04,xy, 94, 1550,in, deg, 49, 0.0000,N, 119, 0.0000,E, grid, , , ,N
Point05,xy, 1542, 1550,in, deg, 49, 0.0000,N, 119, 30.0000,E, grid, , , ,N
Point06,xy, 2991, 1542,in, deg, 49, 0.0000,N, 120, 0.0000,E, grid, , , ,N
Point07,xy, 90, 3008,in, deg, 48, 40.0000,N, 119, 0.0000,E, grid, , , ,N
Point08,xy, 1546, 3010,in, deg, 48, 40.0000,N, 119, 30.0000,E, grid, , , ,N
Point09,xy, 3004, 3000,in, deg, 48, 40.0000,N, 120, 0.0000,E, grid, , , ,N
Point10,xy, , ,in, deg, , ,N, , ,W, grid, , , ,N
Point11,xy, , ,in, deg, , ,N, , ,W, grid, , , ,N
Point12,xy, , ,in, deg, , ,N, , ,W, grid, , , ,N
Point13,xy, , ,in, deg, , ,N, , ,W, grid, , , ,N
Point14,xy, , ,in, deg, , ,N, , ,W, grid, , , ,N
Point15,xy, , ,in, deg, , ,N, , ,W, grid, , , ,N
Point16,xy, , ,in, deg, , ,N, , ,W, grid, , , ,N
Point17,xy, , ,in, deg, , ,N, , ,W, grid, , , ,N
Point18,xy, , ,in, deg, , ,N, , ,W, grid, , , ,N
Point19,xy, , ,in, deg, , ,N, , ,W, grid, , , ,N
Point20,xy, , ,in, deg, , ,N, , ,W, grid, , , ,N
Point21,xy, , ,in, deg, , ,N, , ,W, grid, , , ,N
Point22,xy, , ,in, deg, , ,N, , ,W, grid, , , ,N
Point23,xy, , ,in, deg, , ,N, , ,W, grid, , , ,N
Point24,xy, , ,in, deg, , ,N, , ,W, grid, , , ,N
Point25,xy, , ,in, deg, , ,N, , ,W, grid, , , ,N
Point26,xy, , ,in, deg, , ,N, , ,W, grid, , , ,N
Point27,xy, , ,in, deg, , ,N, , ,W, grid, , , ,N
Point28,xy, , ,in, deg, , ,N, , ,W, grid, , , ,N
Point29,xy, , ,in, deg, , ,N, , ,W, grid, , , ,N
Point30,xy, , ,in, deg, , ,N, , ,W, grid, , , ,N
Projection Setup, 0.000000000, 117.000000000, 1.000000000, 500000.00, 0.00,,,,,
Map Feature = MF ; Map Comment = MC These follow if they exist
Track File = TF These follow if they exist
Moving Map Parameters = MM? These follow if they exist
MM0,Yes
MMPNUM,4
MMPXY,1,99,99
MMPXY,2,2989,99
MMPXY,3,2989,2995
MMPXY,4,99,2995
MMPLL,1, 118.999662, 49.331167
MMPLL,2, 120.004468, 49.329518
MMPLL,3, 119.994879, 48.668182
MMPLL,4, 119.003301, 48.669588
MM1B,25.260723
MOP,Map Open Position,0,0
IWH,Map Image Width/Height,3088,3094
