OziExplorer Map Data File Version 2.2
200k--m50-29.gif
200k--m50-29.gif
1 ,Map Code,
Pulkovo 1942 (2),WGS 84, 0.0000, 0.0000,WGS 84
Reserved 1
Reserved 2
Magnetic Variation,,,E
Map Projection,Transverse Mercator,PolyCal,No,AutoCalOnly,No,BSBUseWPX,No
Point01,xy, 104, 84,in, deg, 49, 20.0000,N, 118, 0.0000,E, grid, , , ,N
Point02,xy, 1542, 92,in, deg, 49, 20.0000,N, 118, 30.0000,E, grid, , , ,N
Point03,xy, 2980, 96,in, deg, 49, 20.0000,N, 119, 0.0000,E, grid, , , ,N
Point04,xy, 89, 1542,in, deg, 49, 0.0000,N, 118, 0.0000,E, grid, , , ,N
Point05,xy, 1538, 1553,in, deg, 49, 0.0000,N, 118, 30.0000,E, grid, , , ,N
Point06,xy, 2986, 1556,in, deg, 49, 0.0000,N, 119, 0.0000,E, grid, , , ,N
Point07,xy, 74, 3000,in, deg, 48, 40.0000,N, 118, 0.0000,E, grid, , , ,N
Point08,xy, 1532, 3013,in, deg, 48, 40.0000,N, 118, 30.0000,E, grid, , , ,N
Point09,xy, 2989, 3015,in, deg, 48, 40.0000,N, 119, 0.0000,E, grid, , , ,N
Point10,xy, , ,in, deg, , ,N, , ,W, grid, , , ,N
Point11,xy, , ,in, deg, , ,N, , ,W, grid, , , ,N
Point12,xy, , ,in, deg, , ,N, , ,W, grid, , , ,N
Point13,xy, , ,in, deg, , ,N, , ,W, grid, , , ,N
Point14,xy, , ,in, deg, , ,N, , ,W, grid, , , ,N
Point15,xy, , ,in, deg, , ,N, , ,W, grid, , , ,N
Point16,xy, , ,in, deg, , ,N, , ,W, grid, , , ,N
Point17,xy, , ,in, deg, , ,N, , ,W, grid, , , ,N
Point18,xy, , ,in, deg, , ,N, , ,W, grid, , , ,N
Point19,xy, , ,in, deg, , ,N, , ,W, grid, , , ,N
Point20,xy, , ,in, deg, , ,N, , ,W, grid, , , ,N
Point21,xy, , ,in, deg, , ,N, , ,W, grid, , , ,N
Point22,xy, , ,in, deg, , ,N, , ,W, grid, , , ,N
Point23,xy, , ,in, deg, , ,N, , ,W, grid, , , ,N
Point24,xy, , ,in, deg, , ,N, , ,W, grid, , , ,N
Point25,xy, , ,in, deg, , ,N, , ,W, grid, , , ,N
Point26,xy, , ,in, deg, , ,N, , ,W, grid, , , ,N
Point27,xy, , ,in, deg, , ,N, , ,W, grid, , , ,N
Point28,xy, , ,in, deg, , ,N, , ,W, grid, , , ,N
Point29,xy, , ,in, deg, , ,N, , ,W, grid, , , ,N
Point30,xy, , ,in, deg, , ,N, , ,W, grid, , , ,N
Projection Setup, 0.000000000, 117.000000000, 1.000000000, 500000.00, 0.00,,,,,
Map Feature = MF ; Map Comment = MC These follow if they exist
Track File = TF These follow if they exist
Moving Map Parameters = MM? These follow if they exist
MM0,Yes
MMPNUM,4
MMPXY,1,98,99
MMPXY,2,2976,99
MMPXY,3,2976,2999
MMPXY,4,98,2999
MMPLL,1, 117.997988, 49.329558
MMPLL,2, 118.998395, 49.332612
MMPLL,3, 118.995348, 48.670297
MMPLL,4, 118.008126, 48.667144
MM1B,25.252493
MOP,Map Open Position,0,0
IWH,Map Image Width/Height,3074,3098
