OziExplorer Map Data File Version 2.2
200k--m50-25.gif
200k--m50-25.gif
1 ,Map Code,
Pulkovo 1942 (2),WGS 84, 0.0000, 0.0000,WGS 84
Reserved 1
Reserved 2
Magnetic Variation,,,E
Map Projection,Transverse Mercator,PolyCal,No,AutoCalOnly,No,BSBUseWPX,No
Point01,xy, 106, 84,in, deg, 49, 20.0000,N, 114, 0.0000,E, grid, , , ,N
Point02,xy, 1541, 90,in, deg, 49, 20.0000,N, 114, 30.0000,E, grid, , , ,N
Point03,xy, 2979, 92,in, deg, 49, 20.0000,N, 115, 0.0000,E, grid, , , ,N
Point04,xy, 96, 1548,in, deg, 49, 0.0000,N, 114, 0.0000,E, grid, , , ,N
Point05,xy, 1542, 1552,in, deg, 49, 0.0000,N, 114, 30.0000,E, grid, , , ,N
Point06,xy, 2989, 1553,in, deg, 49, 0.0000,N, 115, 0.0000,E, grid, , , ,N
Point07,xy, 86, 3008,in, deg, 48, 40.0000,N, 114, 0.0000,E, grid, , , ,N
Point08,xy, 1542, 3019,in, deg, 48, 40.0000,N, 114, 30.0000,E, grid, , , ,N
Point09,xy, 2999, 3013,in, deg, 48, 40.0000,N, 115, 0.0000,E, grid, , , ,N
Point10,xy, , ,in, deg, , ,N, , ,W, grid, , , ,N
Point11,xy, , ,in, deg, , ,N, , ,W, grid, , , ,N
Point12,xy, , ,in, deg, , ,N, , ,W, grid, , , ,N
Point13,xy, , ,in, deg, , ,N, , ,W, grid, , , ,N
Point14,xy, , ,in, deg, , ,N, , ,W, grid, , , ,N
Point15,xy, , ,in, deg, , ,N, , ,W, grid, , , ,N
Point16,xy, , ,in, deg, , ,N, , ,W, grid, , , ,N
Point17,xy, , ,in, deg, , ,N, , ,W, grid, , , ,N
Point18,xy, , ,in, deg, , ,N, , ,W, grid, , , ,N
Point19,xy, , ,in, deg, , ,N, , ,W, grid, , , ,N
Point20,xy, , ,in, deg, , ,N, , ,W, grid, , , ,N
Point21,xy, , ,in, deg, , ,N, , ,W, grid, , , ,N
Point22,xy, , ,in, deg, , ,N, , ,W, grid, , , ,N
Point23,xy, , ,in, deg, , ,N, , ,W, grid, , , ,N
Point24,xy, , ,in, deg, , ,N, , ,W, grid, , , ,N
Point25,xy, , ,in, deg, , ,N, , ,W, grid, , , ,N
Point26,xy, , ,in, deg, , ,N, , ,W, grid, , , ,N
Point27,xy, , ,in, deg, , ,N, , ,W, grid, , , ,N
Point28,xy, , ,in, deg, , ,N, , ,W, grid, , , ,N
Point29,xy, , ,in, deg, , ,N, , ,W, grid, , , ,N
Point30,xy, , ,in, deg, , ,N, , ,W, grid, , , ,N
Projection Setup, 0.000000000, 117.000000000, 1.000000000, 500000.00, 0.00,,,,,
Map Feature = MF ; Map Comment = MC These follow if they exist
Track File = TF These follow if they exist
Moving Map Parameters = MM? These follow if they exist
MM0,Yes
MMPNUM,4
MMPXY,1,99,99
MMPXY,2,2989,99
MMPXY,3,2989,3003
MMPXY,4,99,3003
MMPLL,1, 113.997869, 49.329869
MMPLL,2, 115.003498, 49.331337
MMPLL,3, 114.996750, 48.669300
MMPLL,4, 114.004370, 48.668048
MM1B,25.281056
MOP,Map Open Position,0,0
IWH,Map Image Width/Height,3088,3102
