OziExplorer Map Data File Version 2.2
200k--m50-19.gif
200k--m50-19.gif
1 ,Map Code,
Pulkovo 1942 (2),WGS 84, 0.0000, 0.0000,WGS 84
Reserved 1
Reserved 2
Magnetic Variation,,,E
Map Projection,Transverse Mercator,PolyCal,No,AutoCalOnly,No,BSBUseWPX,No
Point01,xy, 106, 86,in, deg, 50, 0.0000,N, 114, 0.0000,E, grid, , , ,N
Point02,xy, 1522, 90,in, deg, 50, 0.0000,N, 114, 30.0000,E, grid, , , ,N
Point03,xy, 2937, 90,in, deg, 50, 0.0000,N, 115, 0.0000,E, grid, , , ,N
Point04,xy, 96, 1543,in, deg, 49, 40.0000,N, 114, 0.0000,E, grid, , , ,N
Point05,xy, 1524, 1554,in, deg, 49, 40.0000,N, 114, 30.0000,E, grid, , , ,N
Point06,xy, 2948, 1552,in, deg, 49, 40.0000,N, 115, 0.0000,E, grid, , , ,N
Point07,xy, 88, 3006,in, deg, 49, 20.0000,N, 114, 0.0000,E, grid, , , ,N
Point08,xy, 1526, 3014,in, deg, 49, 20.0000,N, 114, 30.0000,E, grid, , , ,N
Point09,xy, 2958, 3010,in, deg, 49, 20.0000,N, 115, 0.0000,E, grid, , , ,N
Point10,xy, , ,in, deg, , ,N, , ,W, grid, , , ,N
Point11,xy, , ,in, deg, , ,N, , ,W, grid, , , ,N
Point12,xy, , ,in, deg, , ,N, , ,W, grid, , , ,N
Point13,xy, , ,in, deg, , ,N, , ,W, grid, , , ,N
Point14,xy, , ,in, deg, , ,N, , ,W, grid, , , ,N
Point15,xy, , ,in, deg, , ,N, , ,W, grid, , , ,N
Point16,xy, , ,in, deg, , ,N, , ,W, grid, , , ,N
Point17,xy, , ,in, deg, , ,N, , ,W, grid, , , ,N
Point18,xy, , ,in, deg, , ,N, , ,W, grid, , , ,N
Point19,xy, , ,in, deg, , ,N, , ,W, grid, , , ,N
Point20,xy, , ,in, deg, , ,N, , ,W, grid, , , ,N
Point21,xy, , ,in, deg, , ,N, , ,W, grid, , , ,N
Point22,xy, , ,in, deg, , ,N, , ,W, grid, , , ,N
Point23,xy, , ,in, deg, , ,N, , ,W, grid, , , ,N
Point24,xy, , ,in, deg, , ,N, , ,W, grid, , , ,N
Point25,xy, , ,in, deg, , ,N, , ,W, grid, , , ,N
Point26,xy, , ,in, deg, , ,N, , ,W, grid, , , ,N
Point27,xy, , ,in, deg, , ,N, , ,W, grid, , , ,N
Point28,xy, , ,in, deg, , ,N, , ,W, grid, , , ,N
Point29,xy, , ,in, deg, , ,N, , ,W, grid, , , ,N
Point30,xy, , ,in, deg, , ,N, , ,W, grid, , , ,N
Projection Setup, 0.000000000, 117.000000000, 1.000000000, 500000.00, 0.00,,,,,
Map Feature = MF ; Map Comment = MC These follow if they exist
Track File = TF These follow if they exist
Moving Map Parameters = MM? These follow if they exist
MM0,Yes
MMPNUM,4
MMPXY,1,97,99
MMPXY,2,2948,99
MMPXY,3,2948,2995
MMPXY,4,97,2995
MMPLL,1, 113.996901, 49.996592
MMPLL,2, 115.003737, 49.997989
MMPLL,3, 114.996145, 49.337029
MMPLL,4, 114.002867, 49.335836
MM1B,25.308804
MOP,Map Open Position,0,0
IWH,Map Image Width/Height,3045,3094
