OziExplorer Map Data File Version 2.2
500k--m45-3.gif
500k--m45-3.gif
1 ,Map Code,
Pulkovo 1942 (2),WGS 84, 0.0000, 0.0000,WGS 84
Reserved 1
Reserved 2
Magnetic Variation,,,E
Map Projection,Transverse Mercator,PolyCal,No,AutoCalOnly,No,BSBUseWPX,No
Point01,xy, 167, 82,in, deg, 50, 0.0000,N, 84, 0.0000,E, grid, , , ,N
Point02,xy, 1834, 114,in, deg, 50, 0.0000,N, 85, 30.0000,E, grid, , , ,N
Point03,xy, 3500, 107,in, deg, 50, 0.0000,N, 87, 0.0000,E, grid, , , ,N
Point04,xy, 120, 1822,in, deg, 49, 0.0000,N, 84, 0.0000,E, grid, , , ,N
Point05,xy, 1829, 1845,in, deg, 49, 0.0000,N, 85, 30.0000,E, grid, , , ,N
Point06,xy, 3532, 1842,in, deg, 49, 0.0000,N, 87, 0.0000,E, grid, , , ,N
Point07,xy, 87, 3561,in, deg, 48, 0.0000,N, 84, 0.0000,E, grid, , , ,N
Point08,xy, 1817, 3582,in, deg, 48, 0.0000,N, 85, 30.0000,E, grid, , , ,N
Point09,xy, 3571, 3578,in, deg, 48, 0.0000,N, 87, 0.0000,E, grid, , , ,N
Point10,xy, , ,in, deg, , ,N, , ,W, grid, , , ,N
Point11,xy, , ,in, deg, , ,N, , ,W, grid, , , ,N
Point12,xy, , ,in, deg, , ,N, , ,W, grid, , , ,N
Point13,xy, , ,in, deg, , ,N, , ,W, grid, , , ,N
Point14,xy, , ,in, deg, , ,N, , ,W, grid, , , ,N
Point15,xy, , ,in, deg, , ,N, , ,W, grid, , , ,N
Point16,xy, , ,in, deg, , ,N, , ,W, grid, , , ,N
Point17,xy, , ,in, deg, , ,N, , ,W, grid, , , ,N
Point18,xy, , ,in, deg, , ,N, , ,W, grid, , , ,N
Point19,xy, , ,in, deg, , ,N, , ,W, grid, , , ,N
Point20,xy, , ,in, deg, , ,N, , ,W, grid, , , ,N
Point21,xy, , ,in, deg, , ,N, , ,W, grid, , , ,N
Point22,xy, , ,in, deg, , ,N, , ,W, grid, , , ,N
Point23,xy, , ,in, deg, , ,N, , ,W, grid, , , ,N
Point24,xy, , ,in, deg, , ,N, , ,W, grid, , , ,N
Point25,xy, , ,in, deg, , ,N, , ,W, grid, , , ,N
Point26,xy, , ,in, deg, , ,N, , ,W, grid, , , ,N
Point27,xy, , ,in, deg, , ,N, , ,W, grid, , , ,N
Point28,xy, , ,in, deg, , ,N, , ,W, grid, , , ,N
Point29,xy, , ,in, deg, , ,N, , ,W, grid, , , ,N
Point30,xy, , ,in, deg, , ,N, , ,W, grid, , , ,N
Projection Setup, 0.000000000, 87.000000000, 1.000000000, 500000.00, 0.00,,,,,
Map Feature = MF ; Map Comment = MC These follow if they exist
Track File = TF These follow if they exist
Moving Map Parameters = MM? These follow if they exist
MM0,Yes
MMPNUM,4
MMPXY,1,167,82
MMPXY,2,3500,107
MMPXY,3,3571,3578
MMPXY,4,87,3561
MMPLL,1, 84.000000, 50.000000
MMPLL,2, 87.000000, 50.000000
MMPLL,3, 87.000000, 48.000000
MMPLL,4, 84.000000, 48.000000
MM1B,60.326087
MOP,Map Open Position,0,0
IWH,Map Image Width/Height,3654,3680
