OziExplorer Map Data File Version 2.2
200k--m45-15.gif
200k--m45-15.gif
1 ,Map Code,
Pulkovo 1942 (2),WGS 84, 0.0000, 0.0000,WGS 84
Reserved 1
Reserved 2
Magnetic Variation,,,E
Map Projection,Transverse Mercator,PolyCal,No,AutoCalOnly,No,BSBUseWPX,No
Point01,xy, 96, 90,in, deg, 50, 40.0000,N, 86, 0.0000,E, grid, , , ,N
Point02,xy, 1456, 95,in, deg, 50, 40.0000,N, 86, 30.0000,E, grid, , , ,N
Point03,xy, 2822, 90,in, deg, 50, 40.0000,N, 87, 0.0000,E, grid, , , ,N
Point04,xy, 92, 1510,in, deg, 50, 20.0000,N, 86, 0.0000,E, grid, , , ,N
Point05,xy, 1464, 1516,in, deg, 50, 20.0000,N, 86, 30.0000,E, grid, , , ,N
Point06,xy, 2838, 1510,in, deg, 50, 20.0000,N, 87, 0.0000,E, grid, , , ,N
Point07,xy, 84, 2935,in, deg, 50, 0.0000,N, 86, 0.0000,E, grid, , , ,N
Point08,xy, 1465, 2943,in, deg, 50, 0.0000,N, 86, 30.0000,E, grid, , , ,N
Point09,xy, 2850, 2944,in, deg, 50, 0.0000,N, 87, 0.0000,E, grid, , , ,N
Point10,xy, , ,in, deg, , ,N, , ,W, grid, , , ,N
Point11,xy, , ,in, deg, , ,N, , ,W, grid, , , ,N
Point12,xy, , ,in, deg, , ,N, , ,W, grid, , , ,N
Point13,xy, , ,in, deg, , ,N, , ,W, grid, , , ,N
Point14,xy, , ,in, deg, , ,N, , ,W, grid, , , ,N
Point15,xy, , ,in, deg, , ,N, , ,W, grid, , , ,N
Point16,xy, , ,in, deg, , ,N, , ,W, grid, , , ,N
Point17,xy, , ,in, deg, , ,N, , ,W, grid, , , ,N
Point18,xy, , ,in, deg, , ,N, , ,W, grid, , , ,N
Point19,xy, , ,in, deg, , ,N, , ,W, grid, , , ,N
Point20,xy, , ,in, deg, , ,N, , ,W, grid, , , ,N
Point21,xy, , ,in, deg, , ,N, , ,W, grid, , , ,N
Point22,xy, , ,in, deg, , ,N, , ,W, grid, , , ,N
Point23,xy, , ,in, deg, , ,N, , ,W, grid, , , ,N
Point24,xy, , ,in, deg, , ,N, , ,W, grid, , , ,N
Point25,xy, , ,in, deg, , ,N, , ,W, grid, , , ,N
Point26,xy, , ,in, deg, , ,N, , ,W, grid, , , ,N
Point27,xy, , ,in, deg, , ,N, , ,W, grid, , , ,N
Point28,xy, , ,in, deg, , ,N, , ,W, grid, , , ,N
Point29,xy, , ,in, deg, , ,N, , ,W, grid, , , ,N
Point30,xy, , ,in, deg, , ,N, , ,W, grid, , , ,N
Projection Setup, 0.000000000, 87.000000000, 1.000000000, 500000.00, 0.00,,,,,
Map Feature = MF ; Map Comment = MC These follow if they exist
Track File = TF These follow if they exist
Moving Map Parameters = MM? These follow if they exist
MM0,Yes
MMPNUM,4
MMPXY,1,96,90
MMPXY,2,2822,90
MMPXY,3,2850,2944
MMPXY,4,84,2935
MMPLL,1, 86.000000, 50.666667
MMPLL,2, 87.000000, 50.666667
MMPLL,3, 87.000000, 50.000000
MMPLL,4, 86.000000, 50.000000
MM1B,24.390244
MOP,Map Open Position,0,0
IWH,Map Image Width/Height,2933,3034
