OziExplorer Map Data File Version 2.2
100k--m45-140--(1975).gif
100k--m45-140--(1975).gif
1 ,Map Code,
Pulkovo 1942 (2),WGS 84, 0.0000, 0.0000,WGS 84
Reserved 1
Reserved 2
Magnetic Variation,,,E
Map Projection,Transverse Mercator,PolyCal,No,AutoCalOnly,No,BSBUseWPX,No
Point01,xy, 108, 94,in, deg, 48, 20.0000,N, 87, 30.0000,E, grid, , , ,N
Point02,xy, 1564, 103,in, deg, 48, 20.0000,N, 87, 45.0000,E, grid, , , ,N
Point03,xy, 3019, 101,in, deg, 48, 20.0000,N, 88, 0.0000,E, grid, , , ,N
Point04,xy, 97, 1545,in, deg, 48, 10.0000,N, 87, 30.0000,E, grid, , , ,N
Point05,xy, 1558, 1556,in, deg, 48, 10.0000,N, 87, 45.0000,E, grid, , , ,N
Point06,xy, 3020, 1553,in, deg, 48, 10.0000,N, 88, 0.0000,E, grid, , , ,N
Point07,xy, 88, 3004,in, deg, 48, 0.0000,N, 87, 30.0000,E, grid, , , ,N
Point08,xy, 1551, 3012,in, deg, 48, 0.0000,N, 87, 45.0000,E, grid, , , ,N
Point09,xy, 3020, 3012,in, deg, 48, 0.0000,N, 88, 0.0000,E, grid, , , ,N
Point10,xy, , ,in, deg, , ,N, , ,W, grid, , , ,N
Point11,xy, , ,in, deg, , ,N, , ,W, grid, , , ,N
Point12,xy, , ,in, deg, , ,N, , ,W, grid, , , ,N
Point13,xy, , ,in, deg, , ,N, , ,W, grid, , , ,N
Point14,xy, , ,in, deg, , ,N, , ,W, grid, , , ,N
Point15,xy, , ,in, deg, , ,N, , ,W, grid, , , ,N
Point16,xy, , ,in, deg, , ,N, , ,W, grid, , , ,N
Point17,xy, , ,in, deg, , ,N, , ,W, grid, , , ,N
Point18,xy, , ,in, deg, , ,N, , ,W, grid, , , ,N
Point19,xy, , ,in, deg, , ,N, , ,W, grid, , , ,N
Point20,xy, , ,in, deg, , ,N, , ,W, grid, , , ,N
Point21,xy, , ,in, deg, , ,N, , ,W, grid, , , ,N
Point22,xy, , ,in, deg, , ,N, , ,W, grid, , , ,N
Point23,xy, , ,in, deg, , ,N, , ,W, grid, , , ,N
Point24,xy, , ,in, deg, , ,N, , ,W, grid, , , ,N
Point25,xy, , ,in, deg, , ,N, , ,W, grid, , , ,N
Point26,xy, , ,in, deg, , ,N, , ,W, grid, , , ,N
Point27,xy, , ,in, deg, , ,N, , ,W, grid, , , ,N
Point28,xy, , ,in, deg, , ,N, , ,W, grid, , , ,N
Point29,xy, , ,in, deg, , ,N, , ,W, grid, , , ,N
Point30,xy, , ,in, deg, , ,N, , ,W, grid, , , ,N
Projection Setup, 0.000000000, 87.000000000, 1.000000000, 500000.00, 0.00,,,,,
Map Feature = MF ; Map Comment = MC These follow if they exist
Track File = TF These follow if they exist
Moving Map Parameters = MM? These follow if they exist
MM0,Yes
MMPNUM,4
MMPXY,1,100,99
MMPXY,2,3017,99
MMPXY,3,3017,3009
MMPXY,4,100,3009
MMPLL,1, 87.498735, 48.332727
MMPLL,2, 87.999496, 48.333599
MMPLL,3, 87.999704, 48.000277
MMPLL,4, 87.502178, 47.999396
MM1B,12.722887
MOP,Map Open Position,0,0
IWH,Map Image Width/Height,3117,3108
