OziExplorer Map Data File Version 2.2
100k--m45-138--(1974).gif
100k--m45-138--(1974).gif
1 ,Map Code,
Pulkovo 1942 (2),WGS 84, 0.0000, 0.0000,WGS 84
Reserved 1
Reserved 2
Magnetic Variation,,,E
Map Projection,Transverse Mercator,PolyCal,No,AutoCalOnly,No,BSBUseWPX,No
Point01,xy, 108, 96,in, deg, 48, 20.0000,N, 86, 30.0000,E, grid, , , ,N
Point02,xy, 1562, 104,in, deg, 48, 20.0000,N, 86, 45.0000,E, grid, , , ,N
Point03,xy, 3022, 103,in, deg, 48, 20.0000,N, 87, 0.0000,E, grid, , , ,N
Point04,xy, 96, 1548,in, deg, 48, 10.0000,N, 86, 30.0000,E, grid, , , ,N
Point05,xy, 1554, 1554,in, deg, 48, 10.0000,N, 86, 45.0000,E, grid, , , ,N
Point06,xy, 3022, 1558,in, deg, 48, 10.0000,N, 87, 0.0000,E, grid, , , ,N
Point07,xy, 84, 3009,in, deg, 48, 0.0000,N, 86, 30.0000,E, grid, , , ,N
Point08,xy, 1552, 3019,in, deg, 48, 0.0000,N, 86, 45.0000,E, grid, , , ,N
Point09,xy, 3022, 3020,in, deg, 48, 0.0000,N, 87, 0.0000,E, grid, , , ,N
Point10,xy, , ,in, deg, , ,N, , ,W, grid, , , ,N
Point11,xy, , ,in, deg, , ,N, , ,W, grid, , , ,N
Point12,xy, , ,in, deg, , ,N, , ,W, grid, , , ,N
Point13,xy, , ,in, deg, , ,N, , ,W, grid, , , ,N
Point14,xy, , ,in, deg, , ,N, , ,W, grid, , , ,N
Point15,xy, , ,in, deg, , ,N, , ,W, grid, , , ,N
Point16,xy, , ,in, deg, , ,N, , ,W, grid, , , ,N
Point17,xy, , ,in, deg, , ,N, , ,W, grid, , , ,N
Point18,xy, , ,in, deg, , ,N, , ,W, grid, , , ,N
Point19,xy, , ,in, deg, , ,N, , ,W, grid, , , ,N
Point20,xy, , ,in, deg, , ,N, , ,W, grid, , , ,N
Point21,xy, , ,in, deg, , ,N, , ,W, grid, , , ,N
Point22,xy, , ,in, deg, , ,N, , ,W, grid, , , ,N
Point23,xy, , ,in, deg, , ,N, , ,W, grid, , , ,N
Point24,xy, , ,in, deg, , ,N, , ,W, grid, , , ,N
Point25,xy, , ,in, deg, , ,N, , ,W, grid, , , ,N
Point26,xy, , ,in, deg, , ,N, , ,W, grid, , , ,N
Point27,xy, , ,in, deg, , ,N, , ,W, grid, , , ,N
Point28,xy, , ,in, deg, , ,N, , ,W, grid, , , ,N
Point29,xy, , ,in, deg, , ,N, , ,W, grid, , , ,N
Point30,xy, , ,in, deg, , ,N, , ,W, grid, , , ,N
Projection Setup, 0.000000000, 87.000000000, 1.000000000, 500000.00, 0.00,,,,,
Map Feature = MF ; Map Comment = MC These follow if they exist
Track File = TF These follow if they exist
Moving Map Parameters = MM? These follow if they exist
MM0,Yes
MMPNUM,4
MMPXY,1,100,100
MMPXY,2,3022,100
MMPXY,3,3022,3014
MMPXY,4,100,3014
MMPLL,1, 86.499080, 48.332622
MMPLL,2, 87.000011, 48.333693
MMPLL,3, 87.000327, 48.000475
MMPLL,4, 86.502630, 47.999417
MM1B,12.706007
MOP,Map Open Position,0,0
IWH,Map Image Width/Height,3122,3114
