OziExplorer Map Data File Version 2.2
100k--m45-126.gif
100k--m45-126.gif
1 ,Map Code,
Pulkovo 1942 (2),WGS 84, 0.0000, 0.0000,WGS 84
Reserved 1
Reserved 2
Magnetic Variation,,,E
Map Projection,Transverse Mercator,PolyCal,No,AutoCalOnly,No,BSBUseWPX,No
Point01,xy, 99, 92,in, deg, 48, 40.0000,N, 86, 30.0000,E, grid, , , ,N
Point02,xy, 1544, 98,in, deg, 48, 40.0000,N, 86, 45.0000,E, grid, , , ,N
Point03,xy, 2995, 94,in, deg, 48, 40.0000,N, 87, 0.0000,E, grid, , , ,N
Point04,xy, 94, 1552,in, deg, 48, 30.0000,N, 86, 30.0000,E, grid, , , ,N
Point05,xy, 1546, 1558,in, deg, 48, 30.0000,N, 86, 45.0000,E, grid, , , ,N
Point06,xy, 2999, 1554,in, deg, 48, 30.0000,N, 87, 0.0000,E, grid, , , ,N
Point07,xy, 90, 3012,in, deg, 48, 20.0000,N, 86, 30.0000,E, grid, , , ,N
Point08,xy, 1544, 3016,in, deg, 48, 20.0000,N, 86, 45.0000,E, grid, , , ,N
Point09,xy, 3006, 3016,in, deg, 48, 20.0000,N, 87, 0.0000,E, grid, , , ,N
Point10,xy, , ,in, deg, , ,N, , ,W, grid, , , ,N
Point11,xy, , ,in, deg, , ,N, , ,W, grid, , , ,N
Point12,xy, , ,in, deg, , ,N, , ,W, grid, , , ,N
Point13,xy, , ,in, deg, , ,N, , ,W, grid, , , ,N
Point14,xy, , ,in, deg, , ,N, , ,W, grid, , , ,N
Point15,xy, , ,in, deg, , ,N, , ,W, grid, , , ,N
Point16,xy, , ,in, deg, , ,N, , ,W, grid, , , ,N
Point17,xy, , ,in, deg, , ,N, , ,W, grid, , , ,N
Point18,xy, , ,in, deg, , ,N, , ,W, grid, , , ,N
Point19,xy, , ,in, deg, , ,N, , ,W, grid, , , ,N
Point20,xy, , ,in, deg, , ,N, , ,W, grid, , , ,N
Point21,xy, , ,in, deg, , ,N, , ,W, grid, , , ,N
Point22,xy, , ,in, deg, , ,N, , ,W, grid, , , ,N
Point23,xy, , ,in, deg, , ,N, , ,W, grid, , , ,N
Point24,xy, , ,in, deg, , ,N, , ,W, grid, , , ,N
Point25,xy, , ,in, deg, , ,N, , ,W, grid, , , ,N
Point26,xy, , ,in, deg, , ,N, , ,W, grid, , , ,N
Point27,xy, , ,in, deg, , ,N, , ,W, grid, , , ,N
Point28,xy, , ,in, deg, , ,N, , ,W, grid, , , ,N
Point29,xy, , ,in, deg, , ,N, , ,W, grid, , , ,N
Point30,xy, , ,in, deg, , ,N, , ,W, grid, , , ,N
Projection Setup, 0.000000000, 87.000000000, 1.000000000, 500000.00, 0.00,,,,,
Map Feature = MF ; Map Comment = MC These follow if they exist
Track File = TF These follow if they exist
Moving Map Parameters = MM? These follow if they exist
MM0,Yes
MMPNUM,4
MMPXY,1,99,99
MMPXY,2,2993,99
MMPXY,3,2993,3004
MMPXY,4,99,3004
MMPLL,1, 86.500188, 48.665928
MMPLL,2, 86.999813, 48.666234
MMPLL,3, 86.998075, 48.334614
MMPLL,4, 86.501699, 48.334313
MM1B,12.711879
MOP,Map Open Position,0,0
IWH,Map Image Width/Height,3092,3103
