OziExplorer Map Data File Version 2.2
100k--m45-103.gif
100k--m45-103.gif
1 ,Map Code,
Pulkovo 1942 (2),WGS 84, 0.0000, 0.0000,WGS 84
Reserved 1
Reserved 2
Magnetic Variation,,,E
Map Projection,Transverse Mercator,PolyCal,No,AutoCalOnly,No,BSBUseWPX,No
Point01,xy, 84, 95,in, deg, 49, 20.0000,N, 87, 0.0000,E, grid, , , ,N
Point02,xy, 1505, 98,in, deg, 49, 20.0000,N, 87, 15.0000,E, grid, , , ,N
Point03,xy, 2925, 95,in, deg, 49, 20.0000,N, 87, 30.0000,E, grid, , , ,N
Point04,xy, 82, 1540,in, deg, 49, 10.0000,N, 87, 0.0000,E, grid, , , ,N
Point05,xy, 1507, 1544,in, deg, 49, 10.0000,N, 87, 15.0000,E, grid, , , ,N
Point06,xy, 2930, 1540,in, deg, 49, 10.0000,N, 87, 30.0000,E, grid, , , ,N
Point07,xy, 81, 2988,in, deg, 49, 0.0000,N, 87, 0.0000,E, grid, , , ,N
Point08,xy, 1509, 2989,in, deg, 49, 0.0000,N, 87, 15.0000,E, grid, , , ,N
Point09,xy, 2938, 2986,in, deg, 49, 0.0000,N, 87, 30.0000,E, grid, , , ,N
Point10,xy, , ,in, deg, , ,N, , ,W, grid, , , ,N
Point11,xy, , ,in, deg, , ,N, , ,W, grid, , , ,N
Point12,xy, , ,in, deg, , ,N, , ,W, grid, , , ,N
Point13,xy, , ,in, deg, , ,N, , ,W, grid, , , ,N
Point14,xy, , ,in, deg, , ,N, , ,W, grid, , , ,N
Point15,xy, , ,in, deg, , ,N, , ,W, grid, , , ,N
Point16,xy, , ,in, deg, , ,N, , ,W, grid, , , ,N
Point17,xy, , ,in, deg, , ,N, , ,W, grid, , , ,N
Point18,xy, , ,in, deg, , ,N, , ,W, grid, , , ,N
Point19,xy, , ,in, deg, , ,N, , ,W, grid, , , ,N
Point20,xy, , ,in, deg, , ,N, , ,W, grid, , , ,N
Point21,xy, , ,in, deg, , ,N, , ,W, grid, , , ,N
Point22,xy, , ,in, deg, , ,N, , ,W, grid, , , ,N
Point23,xy, , ,in, deg, , ,N, , ,W, grid, , , ,N
Point24,xy, , ,in, deg, , ,N, , ,W, grid, , , ,N
Point25,xy, , ,in, deg, , ,N, , ,W, grid, , , ,N
Point26,xy, , ,in, deg, , ,N, , ,W, grid, , , ,N
Point27,xy, , ,in, deg, , ,N, , ,W, grid, , , ,N
Point28,xy, , ,in, deg, , ,N, , ,W, grid, , , ,N
Point29,xy, , ,in, deg, , ,N, , ,W, grid, , , ,N
Point30,xy, , ,in, deg, , ,N, , ,W, grid, , , ,N
Projection Setup, 0.000000000, 87.000000000, 1.000000000, 500000.00, 0.00,,,,,
Map Feature = MF ; Map Comment = MC These follow if they exist
Track File = TF These follow if they exist
Moving Map Parameters = MM? These follow if they exist
MM0,Yes
MMPNUM,4
MMPXY,1,84,95
MMPXY,2,2925,95
MMPXY,3,2938,2986
MMPXY,4,81,2988
MMPLL,1, 87.000000, 49.333333
MMPLL,2, 87.500000, 49.333333
MMPLL,3, 87.500000, 49.000000
MMPLL,4, 87.000000, 49.000000
MM1B,12.005191
MOP,Map Open Position,0,0
IWH,Map Image Width/Height,3010,3082
