OziExplorer Map Data File Version 2.2
100k--m45-093.gif
100k--m45-093.gif
1 ,Map Code,
Pulkovo 1942 (2),WGS 84, 0.0000, 0.0000,WGS 84
Reserved 1
Reserved 2
Magnetic Variation,,,E
Map Projection,Transverse Mercator,PolyCal,No,AutoCalOnly,No,BSBUseWPX,No
Point01,xy, 93, 87,in, deg, 49, 40.0000,N, 88, 0.0000,E, grid, , , ,N
Point02,xy, 1502, 92,in, deg, 49, 40.0000,N, 88, 15.0000,E, grid, , , ,N
Point03,xy, 2912, 88,in, deg, 49, 40.0000,N, 88, 30.0000,E, grid, , , ,N
Point04,xy, 90, 1533,in, deg, 49, 30.0000,N, 88, 0.0000,E, grid, , , ,N
Point05,xy, 1504, 1537,in, deg, 49, 30.0000,N, 88, 15.0000,E, grid, , , ,N
Point06,xy, 2916, 1564,ex, deg, 49, 30.0000,N, 88, 30.0000,E, grid, , , ,N
Point07,xy, 87, 2981,in, deg, 49, 20.0000,N, 88, 0.0000,E, grid, , , ,N
Point08,xy, 1505, 2983,in, deg, 49, 20.0000,N, 88, 15.0000,E, grid, , , ,N
Point09,xy, 2925, 2981,in, deg, 49, 20.0000,N, 88, 30.0000,E, grid, , , ,N
Point10,xy, , ,in, deg, , ,N, , ,W, grid, , , ,N
Point11,xy, , ,in, deg, , ,N, , ,W, grid, , , ,N
Point12,xy, , ,in, deg, , ,N, , ,W, grid, , , ,N
Point13,xy, , ,in, deg, , ,N, , ,W, grid, , , ,N
Point14,xy, , ,in, deg, , ,N, , ,W, grid, , , ,N
Point15,xy, , ,in, deg, , ,N, , ,W, grid, , , ,N
Point16,xy, , ,in, deg, , ,N, , ,W, grid, , , ,N
Point17,xy, , ,in, deg, , ,N, , ,W, grid, , , ,N
Point18,xy, , ,in, deg, , ,N, , ,W, grid, , , ,N
Point19,xy, , ,in, deg, , ,N, , ,W, grid, , , ,N
Point20,xy, , ,in, deg, , ,N, , ,W, grid, , , ,N
Point21,xy, , ,in, deg, , ,N, , ,W, grid, , , ,N
Point22,xy, , ,in, deg, , ,N, , ,W, grid, , , ,N
Point23,xy, , ,in, deg, , ,N, , ,W, grid, , , ,N
Point24,xy, , ,in, deg, , ,N, , ,W, grid, , , ,N
Point25,xy, , ,in, deg, , ,N, , ,W, grid, , , ,N
Point26,xy, , ,in, deg, , ,N, , ,W, grid, , , ,N
Point27,xy, , ,in, deg, , ,N, , ,W, grid, , , ,N
Point28,xy, , ,in, deg, , ,N, , ,W, grid, , , ,N
Point29,xy, , ,in, deg, , ,N, , ,W, grid, , , ,N
Point30,xy, , ,in, deg, , ,N, , ,W, grid, , , ,N
Projection Setup, 0.000000000, 87.000000000, 1.000000000, 500000.00, 0.00,,,,,
Map Feature = MF ; Map Comment = MC These follow if they exist
Track File = TF These follow if they exist
Moving Map Parameters = MM? These follow if they exist
MM0,Yes
MMPNUM,4
MMPXY,1,93,87
MMPXY,2,2912,88
MMPXY,3,2925,2981
MMPXY,4,87,2981
MMPLL,1, 88.000000, 49.666667
MMPLL,2, 88.500000, 49.666667
MMPLL,3, 88.500000, 49.333333
MMPLL,4, 88.000000, 49.333333
MM1B,12.044271
MOP,Map Open Position,0,0
IWH,Map Image Width/Height,3000,3072
