OziExplorer Map Data File Version 2.2
100k--m45-051.gif
100k--m45-051.gif
1 ,Map Code,
Pulkovo 1942 (2),WGS 84, 0.0000, 0.0000,WGS 84
Reserved 1
Reserved 2
Magnetic Variation,,,E
Map Projection,Transverse Mercator,PolyCal,No,AutoCalOnly,No,BSBUseWPX,No
Point01,xy, 84, 93,in, deg, 50, 40.0000,N, 85, 0.0000,E, grid, , , ,N
Point02,xy, 1466, 96,in, deg, 50, 40.0000,N, 85, 15.0000,E, grid, , , ,N
Point03,xy, 2846, 91,in, deg, 50, 40.0000,N, 85, 30.0000,E, grid, , , ,N
Point04,xy, 82, 1538,in, deg, 50, 30.0000,N, 85, 0.0000,E, grid, , , ,N
Point05,xy, 1468, 1541,in, deg, 50, 30.0000,N, 85, 15.0000,E, grid, , , ,N
Point06,xy, 2851, 1540,in, deg, 50, 30.0000,N, 85, 30.0000,E, grid, , , ,N
Point07,xy, 78, 2986,in, deg, 50, 20.0000,N, 85, 0.0000,E, grid, , , ,N
Point08,xy, 1469, 2986,in, deg, 50, 20.0000,N, 85, 15.0000,E, grid, , , ,N
Point09,xy, 2858, 2986,in, deg, 50, 20.0000,N, 85, 30.0000,E, grid, , , ,N
Point10,xy, , ,in, deg, , ,N, , ,W, grid, , , ,N
Point11,xy, , ,in, deg, , ,N, , ,W, grid, , , ,N
Point12,xy, , ,in, deg, , ,N, , ,W, grid, , , ,N
Point13,xy, , ,in, deg, , ,N, , ,W, grid, , , ,N
Point14,xy, , ,in, deg, , ,N, , ,W, grid, , , ,N
Point15,xy, , ,in, deg, , ,N, , ,W, grid, , , ,N
Point16,xy, , ,in, deg, , ,N, , ,W, grid, , , ,N
Point17,xy, , ,in, deg, , ,N, , ,W, grid, , , ,N
Point18,xy, , ,in, deg, , ,N, , ,W, grid, , , ,N
Point19,xy, , ,in, deg, , ,N, , ,W, grid, , , ,N
Point20,xy, , ,in, deg, , ,N, , ,W, grid, , , ,N
Point21,xy, , ,in, deg, , ,N, , ,W, grid, , , ,N
Point22,xy, , ,in, deg, , ,N, , ,W, grid, , , ,N
Point23,xy, , ,in, deg, , ,N, , ,W, grid, , , ,N
Point24,xy, , ,in, deg, , ,N, , ,W, grid, , , ,N
Point25,xy, , ,in, deg, , ,N, , ,W, grid, , , ,N
Point26,xy, , ,in, deg, , ,N, , ,W, grid, , , ,N
Point27,xy, , ,in, deg, , ,N, , ,W, grid, , , ,N
Point28,xy, , ,in, deg, , ,N, , ,W, grid, , , ,N
Point29,xy, , ,in, deg, , ,N, , ,W, grid, , , ,N
Point30,xy, , ,in, deg, , ,N, , ,W, grid, , , ,N
Projection Setup, 0.000000000, 87.000000000, 1.000000000, 500000.00, 0.00,,,,,
Map Feature = MF ; Map Comment = MC These follow if they exist
Track File = TF These follow if they exist
Moving Map Parameters = MM? These follow if they exist
MM0,Yes
MMPNUM,4
MMPXY,1,84,93
MMPXY,2,2846,91
MMPXY,3,2858,2986
MMPXY,4,78,2986
MMPLL,1, 85.000000, 50.666667
MMPLL,2, 85.500000, 50.666667
MMPLL,3, 85.500000, 50.333333
MMPLL,4, 85.000000, 50.333333
MM1B,12.005191
MOP,Map Open Position,0,0
IWH,Map Image Width/Height,2930,3082
