OziExplorer Map Data File Version 2.2
100k--m45-037--(1979).gif
100k--m45-037--(1979).gif
1 ,Map Code,
Pulkovo 1942 (2),WGS 84, 0.0000, 0.0000,WGS 84
Reserved 1
Reserved 2
Magnetic Variation,,,E
Map Projection,Transverse Mercator,PolyCal,No,AutoCalOnly,No,BSBUseWPX,No
Point01,xy, 101, 87,in, deg, 51, 0.0000,N, 84, 0.0000,E, grid, , , ,N
Point02,xy, 1483, 92,in, deg, 51, 0.0000,N, 84, 15.0000,E, grid, , , ,N
Point03,xy, 2862, 89,in, deg, 51, 0.0000,N, 84, 30.0000,E, grid, , , ,N
Point04,xy, 90, 1544,in, deg, 50, 50.0000,N, 84, 0.0000,E, grid, , , ,N
Point05,xy, 1478, 1549,in, deg, 50, 50.0000,N, 84, 15.0000,E, grid, , , ,N
Point06,xy, 2868, 1546,in, deg, 50, 50.0000,N, 84, 30.0000,E, grid, , , ,N
Point07,xy, 86, 3008,in, deg, 50, 40.0000,N, 84, 0.0000,E, grid, , , ,N
Point08,xy, 1476, 3010,in, deg, 50, 40.0000,N, 84, 15.0000,E, grid, , , ,N
Point09,xy, 2869, 3008,in, deg, 50, 40.0000,N, 84, 30.0000,E, grid, , , ,N
Point10,xy, , ,in, deg, , ,N, , ,W, grid, , , ,N
Point11,xy, , ,in, deg, , ,N, , ,W, grid, , , ,N
Point12,xy, , ,in, deg, , ,N, , ,W, grid, , , ,N
Point13,xy, , ,in, deg, , ,N, , ,W, grid, , , ,N
Point14,xy, , ,in, deg, , ,N, , ,W, grid, , , ,N
Point15,xy, , ,in, deg, , ,N, , ,W, grid, , , ,N
Point16,xy, , ,in, deg, , ,N, , ,W, grid, , , ,N
Point17,xy, , ,in, deg, , ,N, , ,W, grid, , , ,N
Point18,xy, , ,in, deg, , ,N, , ,W, grid, , , ,N
Point19,xy, , ,in, deg, , ,N, , ,W, grid, , , ,N
Point20,xy, , ,in, deg, , ,N, , ,W, grid, , , ,N
Point21,xy, , ,in, deg, , ,N, , ,W, grid, , , ,N
Point22,xy, , ,in, deg, , ,N, , ,W, grid, , , ,N
Point23,xy, , ,in, deg, , ,N, , ,W, grid, , , ,N
Point24,xy, , ,in, deg, , ,N, , ,W, grid, , , ,N
Point25,xy, , ,in, deg, , ,N, , ,W, grid, , , ,N
Point26,xy, , ,in, deg, , ,N, , ,W, grid, , , ,N
Point27,xy, , ,in, deg, , ,N, , ,W, grid, , , ,N
Point28,xy, , ,in, deg, , ,N, , ,W, grid, , , ,N
Point29,xy, , ,in, deg, , ,N, , ,W, grid, , , ,N
Point30,xy, , ,in, deg, , ,N, , ,W, grid, , , ,N
Projection Setup, 0.000000000, 87.000000000, 1.000000000, 500000.00, 0.00,,,,,
Map Feature = MF ; Map Comment = MC These follow if they exist
Track File = TF These follow if they exist
Moving Map Parameters = MM? These follow if they exist
MM0,Yes
MMPNUM,4
MMPXY,1,95,99
MMPXY,2,2863,99
MMPXY,3,2863,3005
MMPXY,4,95,3005
MMPLL,1, 83.999167, 50.998613
MMPLL,2, 84.499856, 50.998795
MMPLL,3, 84.498983, 50.666958
MMPLL,4, 84.001834, 50.666836
MM1B,12.690408
MOP,Map Open Position,0,0
IWH,Map Image Width/Height,2958,3104
