OziExplorer Map Data File Version 2.2
100k--m45-030.gif
100k--m45-030.gif
1 ,Map Code,
Pulkovo 1942 (2),WGS 84, 0.0000, 0.0000,WGS 84
Reserved 1
Reserved 2
Magnetic Variation,,,E
Map Projection,Transverse Mercator,PolyCal,No,AutoCalOnly,No,BSBUseWPX,No
Point01,xy, 88, 94,in, deg, 51, 20.0000,N, 86, 30.0000,E, grid, , , ,N
Point02,xy, 1448, 99,in, deg, 51, 20.0000,N, 86, 45.0000,E, grid, , , ,N
Point03,xy, 2812, 98,in, deg, 51, 20.0000,N, 87, 0.0000,E, grid, , , ,N
Point04,xy, 86, 1538,in, deg, 51, 10.0000,N, 86, 30.0000,E, grid, , , ,N
Point05,xy, 1449, 1542,in, deg, 51, 10.0000,N, 86, 45.0000,E, grid, , , ,N
Point06,xy, 2818, 1541,in, deg, 51, 10.0000,N, 87, 0.0000,E, grid, , , ,N
Point07,xy, 82, 2983,in, deg, 51, 0.0000,N, 86, 30.0000,E, grid, , , ,N
Point08,xy, 1451, 2988,in, deg, 51, 0.0000,N, 86, 45.0000,E, grid, , , ,N
Point09,xy, 2825, 2986,in, deg, 51, 0.0000,N, 87, 0.0000,E, grid, , , ,N
Point10,xy, , ,in, deg, , ,N, , ,W, grid, , , ,N
Point11,xy, , ,in, deg, , ,N, , ,W, grid, , , ,N
Point12,xy, , ,in, deg, , ,N, , ,W, grid, , , ,N
Point13,xy, , ,in, deg, , ,N, , ,W, grid, , , ,N
Point14,xy, , ,in, deg, , ,N, , ,W, grid, , , ,N
Point15,xy, , ,in, deg, , ,N, , ,W, grid, , , ,N
Point16,xy, , ,in, deg, , ,N, , ,W, grid, , , ,N
Point17,xy, , ,in, deg, , ,N, , ,W, grid, , , ,N
Point18,xy, , ,in, deg, , ,N, , ,W, grid, , , ,N
Point19,xy, , ,in, deg, , ,N, , ,W, grid, , , ,N
Point20,xy, , ,in, deg, , ,N, , ,W, grid, , , ,N
Point21,xy, , ,in, deg, , ,N, , ,W, grid, , , ,N
Point22,xy, , ,in, deg, , ,N, , ,W, grid, , , ,N
Point23,xy, , ,in, deg, , ,N, , ,W, grid, , , ,N
Point24,xy, , ,in, deg, , ,N, , ,W, grid, , , ,N
Point25,xy, , ,in, deg, , ,N, , ,W, grid, , , ,N
Point26,xy, , ,in, deg, , ,N, , ,W, grid, , , ,N
Point27,xy, , ,in, deg, , ,N, , ,W, grid, , , ,N
Point28,xy, , ,in, deg, , ,N, , ,W, grid, , , ,N
Point29,xy, , ,in, deg, , ,N, , ,W, grid, , , ,N
Point30,xy, , ,in, deg, , ,N, , ,W, grid, , , ,N
Projection Setup, 0.000000000, 87.000000000, 1.000000000, 500000.00, 0.00,,,,,
Map Feature = MF ; Map Comment = MC These follow if they exist
Track File = TF These follow if they exist
Moving Map Parameters = MM? These follow if they exist
MM0,Yes
MMPNUM,4
MMPXY,1,88,94
MMPXY,2,2812,98
MMPXY,3,2825,2986
MMPXY,4,82,2983
MMPLL,1, 86.500000, 51.333333
MMPLL,2, 87.000000, 51.333333
MMPLL,3, 87.000000, 51.000000
MMPLL,4, 86.500000, 51.000000
MM1B,11.997406
MOP,Map Open Position,0,0
IWH,Map Image Width/Height,2913,3084
