OziExplorer Map Data File Version 2.2
100k--m45-021.gif
100k--m45-021.gif
1 ,Map Code,
Pulkovo 1942 (2),WGS 84, 0.0000, 0.0000,WGS 84
Reserved 1
Reserved 2
Magnetic Variation,,,E
Map Projection,Transverse Mercator,PolyCal,No,AutoCalOnly,No,BSBUseWPX,No
Point01,xy, 122, 93,in, deg, 51, 40.0000,N, 88, 0.0000,E, grid, , , ,N
Point02,xy, 1467, 106,in, deg, 51, 40.0000,N, 88, 15.0000,E, grid, , , ,N
Point03,xy, 2813, 114,in, deg, 51, 40.0000,N, 88, 30.0000,E, grid, , , ,N
Point04,xy, 105, 1541,in, deg, 51, 30.0000,N, 88, 0.0000,E, grid, , , ,N
Point05,xy, 1457, 1554,in, deg, 51, 30.0000,N, 88, 15.0000,E, grid, , , ,N
Point06,xy, 2808, 1559,in, deg, 51, 30.0000,N, 88, 30.0000,E, grid, , , ,N
Point07,xy, 89, 2987,in, deg, 51, 20.0000,N, 88, 0.0000,E, grid, , , ,N
Point08,xy, 1447, 3000,in, deg, 51, 20.0000,N, 88, 15.0000,E, grid, , , ,N
Point09,xy, 2804, 3008,in, deg, 51, 20.0000,N, 88, 30.0000,E, grid, , , ,N
Point10,xy, , ,in, deg, , ,N, , ,W, grid, , , ,N
Point11,xy, , ,in, deg, , ,N, , ,W, grid, , , ,N
Point12,xy, , ,in, deg, , ,N, , ,W, grid, , , ,N
Point13,xy, , ,in, deg, , ,N, , ,W, grid, , , ,N
Point14,xy, , ,in, deg, , ,N, , ,W, grid, , , ,N
Point15,xy, , ,in, deg, , ,N, , ,W, grid, , , ,N
Point16,xy, , ,in, deg, , ,N, , ,W, grid, , , ,N
Point17,xy, , ,in, deg, , ,N, , ,W, grid, , , ,N
Point18,xy, , ,in, deg, , ,N, , ,W, grid, , , ,N
Point19,xy, , ,in, deg, , ,N, , ,W, grid, , , ,N
Point20,xy, , ,in, deg, , ,N, , ,W, grid, , , ,N
Point21,xy, , ,in, deg, , ,N, , ,W, grid, , , ,N
Point22,xy, , ,in, deg, , ,N, , ,W, grid, , , ,N
Point23,xy, , ,in, deg, , ,N, , ,W, grid, , , ,N
Point24,xy, , ,in, deg, , ,N, , ,W, grid, , , ,N
Point25,xy, , ,in, deg, , ,N, , ,W, grid, , , ,N
Point26,xy, , ,in, deg, , ,N, , ,W, grid, , , ,N
Point27,xy, , ,in, deg, , ,N, , ,W, grid, , , ,N
Point28,xy, , ,in, deg, , ,N, , ,W, grid, , , ,N
Point29,xy, , ,in, deg, , ,N, , ,W, grid, , , ,N
Point30,xy, , ,in, deg, , ,N, , ,W, grid, , , ,N
Projection Setup, 0.000000000, 87.000000000, 1.000000000, 500000.00, 0.00,,,,,
Map Feature = MF ; Map Comment = MC These follow if they exist
Track File = TF These follow if they exist
Moving Map Parameters = MM? These follow if they exist
MM0,Yes
MMPNUM,4
MMPXY,1,122,93
MMPXY,2,2813,114
MMPXY,3,2804,3008
MMPXY,4,89,2987
MMPLL,1, 88.000000, 51.666667
MMPLL,2, 88.500000, 51.666667
MMPLL,3, 88.500000, 51.333333
MMPLL,4, 88.000000, 51.333333
MM1B,11.958630
MOP,Map Open Position,0,0
IWH,Map Image Width/Height,2906,3094
