OziExplorer Map Data File Version 2.2
100k--m45-016--(1981).gif
100k--m45-016--(1981).gif
1 ,Map Code,
Pulkovo 1942 (2),WGS 84, 0.0000, 0.0000,WGS 84
Reserved 1
Reserved 2
Magnetic Variation,,,E
Map Projection,Transverse Mercator,PolyCal,No,AutoCalOnly,No,BSBUseWPX,No
Point01,xy, 113, 87,in, deg, 51, 40.0000,N, 85, 30.0000,E, grid, , , ,N
Point02,xy, 1475, 88,in, deg, 51, 40.0000,N, 85, 45.0000,E, grid, , , ,N
Point03,xy, 2832, 85,in, deg, 51, 40.0000,N, 86, 0.0000,E, grid, , , ,N
Point04,xy, 102, 1543,in, deg, 51, 30.0000,N, 85, 30.0000,E, grid, , , ,N
Point05,xy, 1470, 1544,in, deg, 51, 30.0000,N, 85, 45.0000,E, grid, , , ,N
Point06,xy, 2838, 1542,in, deg, 51, 30.0000,N, 86, 0.0000,E, grid, , , ,N
Point07,xy, 98, 3004,in, deg, 51, 20.0000,N, 85, 30.0000,E, grid, , , ,N
Point08,xy, 1468, 3006,in, deg, 51, 20.0000,N, 85, 45.0000,E, grid, , , ,N
Point09,xy, 2840, 3002,in, deg, 51, 20.0000,N, 86, 0.0000,E, grid, , , ,N
Point10,xy, , ,in, deg, , ,N, , ,W, grid, , , ,N
Point11,xy, , ,in, deg, , ,N, , ,W, grid, , , ,N
Point12,xy, , ,in, deg, , ,N, , ,W, grid, , , ,N
Point13,xy, , ,in, deg, , ,N, , ,W, grid, , , ,N
Point14,xy, , ,in, deg, , ,N, , ,W, grid, , , ,N
Point15,xy, , ,in, deg, , ,N, , ,W, grid, , , ,N
Point16,xy, , ,in, deg, , ,N, , ,W, grid, , , ,N
Point17,xy, , ,in, deg, , ,N, , ,W, grid, , , ,N
Point18,xy, , ,in, deg, , ,N, , ,W, grid, , , ,N
Point19,xy, , ,in, deg, , ,N, , ,W, grid, , , ,N
Point20,xy, , ,in, deg, , ,N, , ,W, grid, , , ,N
Point21,xy, , ,in, deg, , ,N, , ,W, grid, , , ,N
Point22,xy, , ,in, deg, , ,N, , ,W, grid, , , ,N
Point23,xy, , ,in, deg, , ,N, , ,W, grid, , , ,N
Point24,xy, , ,in, deg, , ,N, , ,W, grid, , , ,N
Point25,xy, , ,in, deg, , ,N, , ,W, grid, , , ,N
Point26,xy, , ,in, deg, , ,N, , ,W, grid, , , ,N
Point27,xy, , ,in, deg, , ,N, , ,W, grid, , , ,N
Point28,xy, , ,in, deg, , ,N, , ,W, grid, , , ,N
Point29,xy, , ,in, deg, , ,N, , ,W, grid, , , ,N
Point30,xy, , ,in, deg, , ,N, , ,W, grid, , , ,N
Projection Setup, 0.000000000, 87.000000000, 1.000000000, 500000.00, 0.00,,,,,
Map Feature = MF ; Map Comment = MC These follow if they exist
Track File = TF These follow if they exist
Moving Map Parameters = MM? These follow if they exist
MM0,Yes
MMPNUM,4
MMPXY,1,94,99
MMPXY,2,2843,99
MMPXY,3,2843,3008
MMPXY,4,94,3008
MMPLL,1, 85.496740, 51.665162
MMPLL,2, 86.001614, 51.664986
MMPLL,3, 86.000638, 51.332594
MMPLL,4, 85.499424, 51.332798
MM1B,12.701451
MOP,Map Open Position,0,0
IWH,Map Image Width/Height,2937,3107
