OziExplorer Map Data File Version 2.2
100k--m45-008.gif
100k--m45-008.gif
1 ,Map Code,
Pulkovo 1942 (2),WGS 84, 0.0000, 0.0000,WGS 84
Reserved 1
Reserved 2
Magnetic Variation,,,E
Map Projection,Transverse Mercator,PolyCal,No,AutoCalOnly,No,BSBUseWPX,No
Point01,xy, 96, 95,in, deg, 52, 0.0000,N, 87, 30.0000,E, grid, , , ,N
Point02,xy, 1438, 105,in, deg, 52, 0.0000,N, 87, 45.0000,E, grid, , , ,N
Point03,xy, 2781, 103,in, deg, 52, 0.0000,N, 88, 0.0000,E, grid, , , ,N
Point04,xy, 91, 1540,in, deg, 51, 50.0000,N, 87, 30.0000,E, grid, , , ,N
Point05,xy, 1437, 1549,in, deg, 51, 50.0000,N, 87, 45.0000,E, grid, , , ,N
Point06,xy, 2785, 1549,in, deg, 51, 50.0000,N, 88, 0.0000,E, grid, , , ,N
Point07,xy, 84, 2989,in, deg, 51, 40.0000,N, 87, 30.0000,E, grid, , , ,N
Point08,xy, 1435, 2996,in, deg, 51, 40.0000,N, 87, 45.0000,E, grid, , , ,N
Point09,xy, 2789, 2995,in, deg, 51, 40.0000,N, 88, 0.0000,E, grid, , , ,N
Point10,xy, , ,in, deg, , ,N, , ,W, grid, , , ,N
Point11,xy, , ,in, deg, , ,N, , ,W, grid, , , ,N
Point12,xy, , ,in, deg, , ,N, , ,W, grid, , , ,N
Point13,xy, , ,in, deg, , ,N, , ,W, grid, , , ,N
Point14,xy, , ,in, deg, , ,N, , ,W, grid, , , ,N
Point15,xy, , ,in, deg, , ,N, , ,W, grid, , , ,N
Point16,xy, , ,in, deg, , ,N, , ,W, grid, , , ,N
Point17,xy, , ,in, deg, , ,N, , ,W, grid, , , ,N
Point18,xy, , ,in, deg, , ,N, , ,W, grid, , , ,N
Point19,xy, , ,in, deg, , ,N, , ,W, grid, , , ,N
Point20,xy, , ,in, deg, , ,N, , ,W, grid, , , ,N
Point21,xy, , ,in, deg, , ,N, , ,W, grid, , , ,N
Point22,xy, , ,in, deg, , ,N, , ,W, grid, , , ,N
Point23,xy, , ,in, deg, , ,N, , ,W, grid, , , ,N
Point24,xy, , ,in, deg, , ,N, , ,W, grid, , , ,N
Point25,xy, , ,in, deg, , ,N, , ,W, grid, , , ,N
Point26,xy, , ,in, deg, , ,N, , ,W, grid, , , ,N
Point27,xy, , ,in, deg, , ,N, , ,W, grid, , , ,N
Point28,xy, , ,in, deg, , ,N, , ,W, grid, , , ,N
Point29,xy, , ,in, deg, , ,N, , ,W, grid, , , ,N
Point30,xy, , ,in, deg, , ,N, , ,W, grid, , , ,N
Projection Setup, 0.000000000, 87.000000000, 1.000000000, 500000.00, 0.00,,,,,
Map Feature = MF ; Map Comment = MC These follow if they exist
Track File = TF These follow if they exist
Moving Map Parameters = MM? These follow if they exist
MM0,Yes
MMPNUM,4
MMPXY,1,96,95
MMPXY,2,2781,103
MMPXY,3,2789,2995
MMPXY,4,84,2989
MMPLL,1, 87.500000, 52.000000
MMPLL,2, 88.000000, 52.000000
MMPLL,3, 88.000000, 51.666667
MMPLL,4, 87.500000, 51.666667
MM1B,11.997406
MOP,Map Open Position,0,0
IWH,Map Image Width/Height,2870,3084
