OziExplorer Map Data File Version 2.2
100k--m45-002--(1982).gif
100k--m45-002--(1982).gif
1 ,Map Code,
Pulkovo 1942 (2),WGS 84, 0.0000, 0.0000,WGS 84
Reserved 1
Reserved 2
Magnetic Variation,,,E
Map Projection,Transverse Mercator,PolyCal,No,AutoCalOnly,No,BSBUseWPX,No
Point01,xy, 108, 87,in, deg, 52, 0.0000,N, 84, 30.0000,E, grid, , , ,N
Point02,xy, 1460, 88,in, deg, 52, 0.0000,N, 84, 45.0000,E, grid, , , ,N
Point03,xy, 2807, 83,in, deg, 52, 0.0000,N, 85, 0.0000,E, grid, , , ,N
Point04,xy, 99, 1543,in, deg, 51, 50.0000,N, 84, 30.0000,E, grid, , , ,N
Point05,xy, 1459, 1545,in, deg, 51, 50.0000,N, 84, 45.0000,E, grid, , , ,N
Point06,xy, 2817, 1538,in, deg, 51, 50.0000,N, 85, 0.0000,E, grid, , , ,N
Point07,xy, 96, 3005,in, deg, 51, 40.0000,N, 84, 30.0000,E, grid, , , ,N
Point08,xy, 1457, 3005,in, deg, 51, 40.0000,N, 84, 45.0000,E, grid, , , ,N
Point09,xy, 2822, 3001,in, deg, 51, 40.0000,N, 85, 0.0000,E, grid, , , ,N
Point10,xy, , ,in, deg, , ,N, , ,W, grid, , , ,N
Point11,xy, , ,in, deg, , ,N, , ,W, grid, , , ,N
Point12,xy, , ,in, deg, , ,N, , ,W, grid, , , ,N
Point13,xy, , ,in, deg, , ,N, , ,W, grid, , , ,N
Point14,xy, , ,in, deg, , ,N, , ,W, grid, , , ,N
Point15,xy, , ,in, deg, , ,N, , ,W, grid, , , ,N
Point16,xy, , ,in, deg, , ,N, , ,W, grid, , , ,N
Point17,xy, , ,in, deg, , ,N, , ,W, grid, , , ,N
Point18,xy, , ,in, deg, , ,N, , ,W, grid, , , ,N
Point19,xy, , ,in, deg, , ,N, , ,W, grid, , , ,N
Point20,xy, , ,in, deg, , ,N, , ,W, grid, , , ,N
Point21,xy, , ,in, deg, , ,N, , ,W, grid, , , ,N
Point22,xy, , ,in, deg, , ,N, , ,W, grid, , , ,N
Point23,xy, , ,in, deg, , ,N, , ,W, grid, , , ,N
Point24,xy, , ,in, deg, , ,N, , ,W, grid, , , ,N
Point25,xy, , ,in, deg, , ,N, , ,W, grid, , , ,N
Point26,xy, , ,in, deg, , ,N, , ,W, grid, , , ,N
Point27,xy, , ,in, deg, , ,N, , ,W, grid, , , ,N
Point28,xy, , ,in, deg, , ,N, , ,W, grid, , , ,N
Point29,xy, , ,in, deg, , ,N, , ,W, grid, , , ,N
Point30,xy, , ,in, deg, , ,N, , ,W, grid, , , ,N
Projection Setup, 0.000000000, 87.000000000, 1.000000000, 500000.00, 0.00,,,,,
Map Feature = MF ; Map Comment = MC These follow if they exist
Track File = TF These follow if they exist
Moving Map Parameters = MM? These follow if they exist
MM0,Yes
MMPNUM,4
MMPXY,1,93,99
MMPXY,2,2827,99
MMPXY,3,2827,3002
MMPXY,4,93,3002
MMPLL,1, 84.497572, 51.998551
MMPLL,2, 85.003042, 51.998073
MMPLL,3, 85.001188, 51.666397
MMPLL,4, 84.499420, 51.666918
MM1B,12.690033
MOP,Map Open Position,0,0
IWH,Map Image Width/Height,2920,3101
