OziExplorer Map Data File Version 2.2
200k--m42-35.gif
200k--m42-35.gif
1 ,Map Code,
Pulkovo 1942 (2),WGS 84, 0.0000, 0.0000,WGS 84
Reserved 1
Reserved 2
Magnetic Variation,,,E
Map Projection,Transverse Mercator,PolyCal,No,AutoCalOnly,No,BSBUseWPX,No
Point01,xy, 100, 95,in, deg, 48, 40.0000,N, 70, 0.0000,E, grid, , , ,N
Point02,xy, 1535, 93,in, deg, 48, 40.0000,N, 70, 30.0000,E, grid, , , ,N
Point03,xy, 2972, 80,in, deg, 48, 40.0000,N, 71, 0.0000,E, grid, , , ,N
Point04,xy, 97, 1542,in, deg, 48, 20.0000,N, 70, 0.0000,E, grid, , , ,N
Point05,xy, 1543, 1531,in, deg, 48, 20.0000,N, 70, 30.0000,E, grid, , , ,N
Point06,xy, 2986, 1522,in, deg, 48, 20.0000,N, 71, 0.0000,E, grid, , , ,N
Point07,xy, 93, 2985,in, deg, 48, 0.0000,N, 70, 0.0000,E, grid, , , ,N
Point08,xy, 1550, 2982,in, deg, 48, 0.0000,N, 70, 30.0000,E, grid, , , ,N
Point09,xy, 3004, 2968,in, deg, 48, 0.0000,N, 71, 0.0000,E, grid, , , ,N
Point10,xy, , ,in, deg, , ,N, , ,W, grid, , , ,N
Point11,xy, , ,in, deg, , ,N, , ,W, grid, , , ,N
Point12,xy, , ,in, deg, , ,N, , ,W, grid, , , ,N
Point13,xy, , ,in, deg, , ,N, , ,W, grid, , , ,N
Point14,xy, , ,in, deg, , ,N, , ,W, grid, , , ,N
Point15,xy, , ,in, deg, , ,N, , ,W, grid, , , ,N
Point16,xy, , ,in, deg, , ,N, , ,W, grid, , , ,N
Point17,xy, , ,in, deg, , ,N, , ,W, grid, , , ,N
Point18,xy, , ,in, deg, , ,N, , ,W, grid, , , ,N
Point19,xy, , ,in, deg, , ,N, , ,W, grid, , , ,N
Point20,xy, , ,in, deg, , ,N, , ,W, grid, , , ,N
Point21,xy, , ,in, deg, , ,N, , ,W, grid, , , ,N
Point22,xy, , ,in, deg, , ,N, , ,W, grid, , , ,N
Point23,xy, , ,in, deg, , ,N, , ,W, grid, , , ,N
Point24,xy, , ,in, deg, , ,N, , ,W, grid, , , ,N
Point25,xy, , ,in, deg, , ,N, , ,W, grid, , , ,N
Point26,xy, , ,in, deg, , ,N, , ,W, grid, , , ,N
Point27,xy, , ,in, deg, , ,N, , ,W, grid, , , ,N
Point28,xy, , ,in, deg, , ,N, , ,W, grid, , , ,N
Point29,xy, , ,in, deg, , ,N, , ,W, grid, , , ,N
Point30,xy, , ,in, deg, , ,N, , ,W, grid, , , ,N
Projection Setup, 0.000000000, 69.000000000, 1.000000000, 500000.00, 0.00,,,,,
Map Feature = MF ; Map Comment = MC These follow if they exist
Track File = TF These follow if they exist
Moving Map Parameters = MM? These follow if they exist
MM0,Yes
MMPNUM,4
MMPXY,1,100,95
MMPXY,2,2972,80
MMPXY,3,3004,2968
MMPXY,4,93,2985
MMPLL,1, 70.000000, 48.666667
MMPLL,2, 71.000000, 48.666667
MMPLL,3, 71.000000, 48.000000
MMPLL,4, 70.000000, 48.000000
MM1B,24.057217
MOP,Map Open Position,0,0
IWH,Map Image Width/Height,3094,3076
