OziExplorer Map Data File Version 2.2
200k--m42-09.gif
200k--m42-09.gif
1 ,Map Code,
Pulkovo 1942 (2),WGS 84, 0.0000, 0.0000,WGS 84
Reserved 1
Reserved 2
Magnetic Variation,,,E
Map Projection,Transverse Mercator,PolyCal,No,AutoCalOnly,No,BSBUseWPX,No
Point01,xy, 103, 89,in, deg, 51, 20.0000,N, 68, 0.0000,E, grid, , , ,N
Point02,xy, 1459, 93,in, deg, 51, 20.0000,N, 68, 30.0000,E, grid, , , ,N
Point03,xy, 2813, 84,in, deg, 51, 20.0000,N, 69, 0.0000,E, grid, , , ,N
Point04,xy, 97, 1533,in, deg, 51, 0.0000,N, 68, 0.0000,E, grid, , , ,N
Point05,xy, 1459, 1538,in, deg, 51, 0.0000,N, 68, 30.0000,E, grid, , , ,N
Point06,xy, 2823, 1529,in, deg, 51, 0.0000,N, 69, 0.0000,E, grid, , , ,N
Point07,xy, 88, 2978,in, deg, 50, 40.0000,N, 68, 0.0000,E, grid, , , ,N
Point08,xy, 1461, 2980,in, deg, 50, 40.0000,N, 68, 30.0000,E, grid, , , ,N
Point09,xy, 2837, 2970,in, deg, 50, 40.0000,N, 69, 0.0000,E, grid, , , ,N
Point10,xy, , ,in, deg, , ,N, , ,W, grid, , , ,N
Point11,xy, , ,in, deg, , ,N, , ,W, grid, , , ,N
Point12,xy, , ,in, deg, , ,N, , ,W, grid, , , ,N
Point13,xy, , ,in, deg, , ,N, , ,W, grid, , , ,N
Point14,xy, , ,in, deg, , ,N, , ,W, grid, , , ,N
Point15,xy, , ,in, deg, , ,N, , ,W, grid, , , ,N
Point16,xy, , ,in, deg, , ,N, , ,W, grid, , , ,N
Point17,xy, , ,in, deg, , ,N, , ,W, grid, , , ,N
Point18,xy, , ,in, deg, , ,N, , ,W, grid, , , ,N
Point19,xy, , ,in, deg, , ,N, , ,W, grid, , , ,N
Point20,xy, , ,in, deg, , ,N, , ,W, grid, , , ,N
Point21,xy, , ,in, deg, , ,N, , ,W, grid, , , ,N
Point22,xy, , ,in, deg, , ,N, , ,W, grid, , , ,N
Point23,xy, , ,in, deg, , ,N, , ,W, grid, , , ,N
Point24,xy, , ,in, deg, , ,N, , ,W, grid, , , ,N
Point25,xy, , ,in, deg, , ,N, , ,W, grid, , , ,N
Point26,xy, , ,in, deg, , ,N, , ,W, grid, , , ,N
Point27,xy, , ,in, deg, , ,N, , ,W, grid, , , ,N
Point28,xy, , ,in, deg, , ,N, , ,W, grid, , , ,N
Point29,xy, , ,in, deg, , ,N, , ,W, grid, , , ,N
Point30,xy, , ,in, deg, , ,N, , ,W, grid, , , ,N
Projection Setup, 0.000000000, 69.000000000, 1.000000000, 500000.00, 0.00,,,,,
Map Feature = MF ; Map Comment = MC These follow if they exist
Track File = TF These follow if they exist
Moving Map Parameters = MM? These follow if they exist
MM0,Yes
MMPNUM,4
MMPXY,1,103,89
MMPXY,2,2813,84
MMPXY,3,2837,2970
MMPXY,4,88,2978
MMPLL,1, 68.000000, 51.333333
MMPLL,2, 69.000000, 51.333333
MMPLL,3, 69.000000, 50.666667
MMPLL,4, 68.000000, 50.666667
MM1B,24.072869
MOP,Map Open Position,0,0
IWH,Map Image Width/Height,2926,3074
