OziExplorer Map Data File Version 2.2
500k--m31-3.gif
500k--m31-3.gif
1 ,Map Code,
Pulkovo 1942 (2),WGS 84, 0.0000, 0.0000,WGS 84
Reserved 1
Reserved 2
Magnetic Variation,,,E
Map Projection,Transverse Mercator,PolyCal,No,AutoCalOnly,No,BSBUseWPX,No
Point01,xy, 146, 80,in, deg, 50, 0.0000,N, 0, 0.0000,E, grid, , , ,N
Point02,xy, 1824, 95,in, deg, 50, 0.0000,N, 1, 30.0000,E, grid, , , ,N
Point03,xy, 3498, 81,in, deg, 50, 0.0000,N, 3, 0.0000,E, grid, , , ,N
Point04,xy, 112, 1832,in, deg, 49, 0.0000,N, 0, 0.0000,E, grid, , , ,N
Point05,xy, 1823, 1847,in, deg, 49, 0.0000,N, 1, 30.0000,E, grid, , , ,N
Point06,xy, 3531, 1830,in, deg, 49, 0.0000,N, 3, 0.0000,E, grid, , , ,N
Point07,xy, 76, 3584,in, deg, 48, 0.0000,N, 0, 0.0000,E, grid, , , ,N
Point08,xy, 1822, 3597,in, deg, 48, 0.0000,N, 1, 30.0000,E, grid, , , ,N
Point09,xy, 3566, 3579,in, deg, 48, 0.0000,N, 3, 0.0000,E, grid, , , ,N
Point10,xy, , ,in, deg, , ,N, , ,W, grid, , , ,N
Point11,xy, , ,in, deg, , ,N, , ,W, grid, , , ,N
Point12,xy, , ,in, deg, , ,N, , ,W, grid, , , ,N
Point13,xy, , ,in, deg, , ,N, , ,W, grid, , , ,N
Point14,xy, , ,in, deg, , ,N, , ,W, grid, , , ,N
Point15,xy, , ,in, deg, , ,N, , ,W, grid, , , ,N
Point16,xy, , ,in, deg, , ,N, , ,W, grid, , , ,N
Point17,xy, , ,in, deg, , ,N, , ,W, grid, , , ,N
Point18,xy, , ,in, deg, , ,N, , ,W, grid, , , ,N
Point19,xy, , ,in, deg, , ,N, , ,W, grid, , , ,N
Point20,xy, , ,in, deg, , ,N, , ,W, grid, , , ,N
Point21,xy, , ,in, deg, , ,N, , ,W, grid, , , ,N
Point22,xy, , ,in, deg, , ,N, , ,W, grid, , , ,N
Point23,xy, , ,in, deg, , ,N, , ,W, grid, , , ,N
Point24,xy, , ,in, deg, , ,N, , ,W, grid, , , ,N
Point25,xy, , ,in, deg, , ,N, , ,W, grid, , , ,N
Point26,xy, , ,in, deg, , ,N, , ,W, grid, , , ,N
Point27,xy, , ,in, deg, , ,N, , ,W, grid, , , ,N
Point28,xy, , ,in, deg, , ,N, , ,W, grid, , , ,N
Point29,xy, , ,in, deg, , ,N, , ,W, grid, , , ,N
Point30,xy, , ,in, deg, , ,N, , ,W, grid, , , ,N
Projection Setup, 0.000000000, 3.000000000, 1.000000000, 500000.00, 0.00,,,,,
Map Feature = MF ; Map Comment = MC These follow if they exist
Track File = TF These follow if they exist
Moving Map Parameters = MM? These follow if they exist
MM0,Yes
MMPNUM,4
MMPXY,1,146,80
MMPXY,2,3498,81
MMPXY,3,3566,3579
MMPXY,4,76,3584
MMPLL,1, 0.000000, 50.000000
MMPLL,2, 3.000000, 50.000000
MMPLL,3, 3.000000, 48.000000
MMPLL,4, 0.000000, 48.000000
MM1B,60.457516
MOP,Map Open Position,0,0
IWH,Map Image Width/Height,3643,3672
