OziExplorer Map Data File Version 2.2
500k--m31-2.gif
500k--m31-2.gif
1 ,Map Code,
Pulkovo 1942 (2),WGS 84, 0.0000, 0.0000,WGS 84
Reserved 1
Reserved 2
Magnetic Variation,,,E
Map Projection,Transverse Mercator,PolyCal,No,AutoCalOnly,No,BSBUseWPX,No
Point01,xy, 152, 80,in, deg, 52, 0.0000,N, 3, 0.0000,E, grid, , , ,N
Point02,xy, 1759, 95,in, deg, 52, 0.0000,N, 4, 30.0000,E, grid, , , ,N
Point03,xy, 3362, 80,in, deg, 52, 0.0000,N, 6, 0.0000,E, grid, , , ,N
Point04,xy, 115, 1830,in, deg, 51, 0.0000,N, 3, 0.0000,E, grid, , , ,N
Point05,xy, 1754, 1848,in, deg, 51, 0.0000,N, 4, 30.0000,E, grid, , , ,N
Point06,xy, 3393, 1834,in, deg, 51, 0.0000,N, 6, 0.0000,E, grid, , , ,N
Point07,xy, 79, 3581,in, deg, 50, 0.0000,N, 3, 0.0000,E, grid, , , ,N
Point08,xy, 1752, 3599,in, deg, 50, 0.0000,N, 4, 30.0000,E, grid, , , ,N
Point09,xy, 3425, 3587,in, deg, 50, 0.0000,N, 6, 0.0000,E, grid, , , ,N
Point10,xy, , ,in, deg, , ,N, , ,W, grid, , , ,N
Point11,xy, , ,in, deg, , ,N, , ,W, grid, , , ,N
Point12,xy, , ,in, deg, , ,N, , ,W, grid, , , ,N
Point13,xy, , ,in, deg, , ,N, , ,W, grid, , , ,N
Point14,xy, , ,in, deg, , ,N, , ,W, grid, , , ,N
Point15,xy, , ,in, deg, , ,N, , ,W, grid, , , ,N
Point16,xy, , ,in, deg, , ,N, , ,W, grid, , , ,N
Point17,xy, , ,in, deg, , ,N, , ,W, grid, , , ,N
Point18,xy, , ,in, deg, , ,N, , ,W, grid, , , ,N
Point19,xy, , ,in, deg, , ,N, , ,W, grid, , , ,N
Point20,xy, , ,in, deg, , ,N, , ,W, grid, , , ,N
Point21,xy, , ,in, deg, , ,N, , ,W, grid, , , ,N
Point22,xy, , ,in, deg, , ,N, , ,W, grid, , , ,N
Point23,xy, , ,in, deg, , ,N, , ,W, grid, , , ,N
Point24,xy, , ,in, deg, , ,N, , ,W, grid, , , ,N
Point25,xy, , ,in, deg, , ,N, , ,W, grid, , , ,N
Point26,xy, , ,in, deg, , ,N, , ,W, grid, , , ,N
Point27,xy, , ,in, deg, , ,N, , ,W, grid, , , ,N
Point28,xy, , ,in, deg, , ,N, , ,W, grid, , , ,N
Point29,xy, , ,in, deg, , ,N, , ,W, grid, , , ,N
Point30,xy, , ,in, deg, , ,N, , ,W, grid, , , ,N
Projection Setup, 0.000000000, 3.000000000, 1.000000000, 500000.00, 0.00,,,,,
Map Feature = MF ; Map Comment = MC These follow if they exist
Track File = TF These follow if they exist
Moving Map Parameters = MM? These follow if they exist
MM0,Yes
MMPNUM,4
MMPXY,1,152,80
MMPXY,2,3362,80
MMPXY,3,3425,3587
MMPXY,4,79,3581
MMPLL,1, 3.000000, 52.000000
MMPLL,2, 6.000000, 52.000000
MMPLL,3, 6.000000, 50.000000
MMPLL,4, 3.000000, 50.000000
MM1B,60.490463
MOP,Map Open Position,0,0
IWH,Map Image Width/Height,3496,3670
