OziExplorer Map Data File Version 2.2
200k--m31-05.gif
200k--m31-05.gif
1 ,Map Code,
Pulkovo 1942 (2),WGS 84, 0.0000, 0.0000,WGS 84
Reserved 1
Reserved 2
Magnetic Variation,,,E
Map Projection,Transverse Mercator,PolyCal,No,AutoCalOnly,No,BSBUseWPX,No
Point01,xy, 136, 120,in, deg, 52, 0.0000,N, 4, 0.0000,E, grid, , , ,N
Point02,xy, 2162, 127,in, deg, 52, 0.0000,N, 4, 30.0000,E, grid, , , ,N
Point03,xy, 4190, 126,in, deg, 52, 0.0000,N, 5, 0.0000,E, grid, , , ,N
Point04,xy, 116, 2323,in, deg, 51, 40.0000,N, 4, 0.0000,E, grid, , , ,N
Point05,xy, 2160, 2332,in, deg, 51, 40.0000,N, 4, 30.0000,E, grid, , , ,N
Point06,xy, 4201, 2331,in, deg, 51, 40.0000,N, 5, 0.0000,E, grid, , , ,N
Point07,xy, 98, 4526,in, deg, 51, 20.0000,N, 4, 0.0000,E, grid, , , ,N
Point08,xy, 2156, 4536,in, deg, 51, 20.0000,N, 4, 30.0000,E, grid, , , ,N
Point09,xy, 4214, 4533,in, deg, 51, 20.0000,N, 5, 0.0000,E, grid, , , ,N
Point10,xy, , ,in, deg, , ,N, , ,W, grid, , , ,N
Point11,xy, , ,in, deg, , ,N, , ,W, grid, , , ,N
Point12,xy, , ,in, deg, , ,N, , ,W, grid, , , ,N
Point13,xy, , ,in, deg, , ,N, , ,W, grid, , , ,N
Point14,xy, , ,in, deg, , ,N, , ,W, grid, , , ,N
Point15,xy, , ,in, deg, , ,N, , ,W, grid, , , ,N
Point16,xy, , ,in, deg, , ,N, , ,W, grid, , , ,N
Point17,xy, , ,in, deg, , ,N, , ,W, grid, , , ,N
Point18,xy, , ,in, deg, , ,N, , ,W, grid, , , ,N
Point19,xy, , ,in, deg, , ,N, , ,W, grid, , , ,N
Point20,xy, , ,in, deg, , ,N, , ,W, grid, , , ,N
Point21,xy, , ,in, deg, , ,N, , ,W, grid, , , ,N
Point22,xy, , ,in, deg, , ,N, , ,W, grid, , , ,N
Point23,xy, , ,in, deg, , ,N, , ,W, grid, , , ,N
Point24,xy, , ,in, deg, , ,N, , ,W, grid, , , ,N
Point25,xy, , ,in, deg, , ,N, , ,W, grid, , , ,N
Point26,xy, , ,in, deg, , ,N, , ,W, grid, , , ,N
Point27,xy, , ,in, deg, , ,N, , ,W, grid, , , ,N
Point28,xy, , ,in, deg, , ,N, , ,W, grid, , , ,N
Point29,xy, , ,in, deg, , ,N, , ,W, grid, , , ,N
Point30,xy, , ,in, deg, , ,N, , ,W, grid, , , ,N
Projection Setup, 0.000000000, 3.000000000, 1.000000000, 500000.00, 0.00,,,,,
Map Feature = MF ; Map Comment = MC These follow if they exist
Track File = TF These follow if they exist
Moving Map Parameters = MM? These follow if they exist
MM0,Yes
MMPNUM,4
MMPXY,1,139,149
MMPXY,2,4194,149
MMPXY,3,4194,4512
MMPXY,4,139,4512
MMPLL,1, 4.001034, 51.995455
MMPLL,2, 5.000942, 51.996440
MMPLL,3, 4.995319, 51.336560
MMPLL,4, 4.009838, 51.335473
MM1B,16.928103
MOP,Map Open Position,0,0
IWH,Map Image Width/Height,4333,4661
