OziExplorer Map Data File Version 2.2
100k--l55-125--(1981).gif
100k--l55-125--(1981).gif
1 ,Map Code,
Pulkovo 1942 (2),WGS 84, 0.0000, 0.0000,WGS 84
Reserved 1
Reserved 2
Magnetic Variation,,,E
Map Projection,Transverse Mercator,PolyCal,No,AutoCalOnly,No,BSBUseWPX,No
Point01,xy, 106, 99,in, deg, 44, 40.0000,N, 146, 0.0000,E, grid, , , ,N
Point02,xy, 1664, 104,in, deg, 44, 40.0000,N, 146, 15.0000,E, grid, , , ,N
Point03,xy, 3223, 99,in, deg, 44, 40.0000,N, 146, 30.0000,E, grid, , , ,N
Point04,xy, 98, 1556,in, deg, 44, 30.0000,N, 146, 0.0000,E, grid, , , ,N
Point05,xy, 1660, 1563,in, deg, 44, 30.0000,N, 146, 15.0000,E, grid, , , ,N
Point06,xy, 3224, 1559,in, deg, 44, 30.0000,N, 146, 30.0000,E, grid, , , ,N
Point07,xy, 91, 3012,in, deg, 44, 20.0000,N, 146, 0.0000,E, grid, , , ,N
Point08,xy, 1654, 3018,in, deg, 44, 20.0000,N, 146, 15.0000,E, grid, , , ,N
Point09,xy, 3224, 3015,in, deg, 44, 20.0000,N, 146, 30.0000,E, grid, , , ,N
Point10,xy, , ,in, deg, , ,N, , ,W, grid, , , ,N
Point11,xy, , ,in, deg, , ,N, , ,W, grid, , , ,N
Point12,xy, , ,in, deg, , ,N, , ,W, grid, , , ,N
Point13,xy, , ,in, deg, , ,N, , ,W, grid, , , ,N
Point14,xy, , ,in, deg, , ,N, , ,W, grid, , , ,N
Point15,xy, , ,in, deg, , ,N, , ,W, grid, , , ,N
Point16,xy, , ,in, deg, , ,N, , ,W, grid, , , ,N
Point17,xy, , ,in, deg, , ,N, , ,W, grid, , , ,N
Point18,xy, , ,in, deg, , ,N, , ,W, grid, , , ,N
Point19,xy, , ,in, deg, , ,N, , ,W, grid, , , ,N
Point20,xy, , ,in, deg, , ,N, , ,W, grid, , , ,N
Point21,xy, , ,in, deg, , ,N, , ,W, grid, , , ,N
Point22,xy, , ,in, deg, , ,N, , ,W, grid, , , ,N
Point23,xy, , ,in, deg, , ,N, , ,W, grid, , , ,N
Point24,xy, , ,in, deg, , ,N, , ,W, grid, , , ,N
Point25,xy, , ,in, deg, , ,N, , ,W, grid, , , ,N
Point26,xy, , ,in, deg, , ,N, , ,W, grid, , , ,N
Point27,xy, , ,in, deg, , ,N, , ,W, grid, , , ,N
Point28,xy, , ,in, deg, , ,N, , ,W, grid, , , ,N
Point29,xy, , ,in, deg, , ,N, , ,W, grid, , , ,N
Point30,xy, , ,in, deg, , ,N, , ,W, grid, , , ,N
Projection Setup, 0.000000000, 147.000000000, 1.000000000, 500000.00, 0.00,,,,,
Map Feature = MF ; Map Comment = MC These follow if they exist
Track File = TF These follow if they exist
Moving Map Parameters = MM? These follow if they exist
MM0,Yes
MMPNUM,4
MMPXY,1,106,99
MMPXY,2,3209,99
MMPXY,3,3209,3002
MMPXY,4,106,3002
MMPLL,1, 145.999962, 44.666703
MMPLL,2, 146.497809, 44.666945
MMPLL,3, 146.497678, 44.334900
MMPLL,4, 146.002649, 44.334683
MM1B,12.718541
MOP,Map Open Position,0,0
IWH,Map Image Width/Height,3315,3101
