OziExplorer Map Data File Version 2.2
100k--l55-123.gif
100k--l55-123.gif
1 ,Map Code,
Pulkovo 1942 (2),WGS 84, 0.0000, 0.0000,WGS 84
Reserved 1
Reserved 2
Magnetic Variation,,,E
Map Projection,Transverse Mercator,PolyCal,No,AutoCalOnly,No,BSBUseWPX,No
Point01,xy, 104, 90,in, deg, 44, 40.0000,N, 145, 0.0000,E, grid, , , ,N
Point02,xy, 1670, 93,in, deg, 44, 40.0000,N, 145, 15.0000,E, grid, , , ,N
Point03,xy, 3240, 90,in, deg, 44, 40.0000,N, 145, 30.0000,E, grid, , , ,N
Point04,xy, 99, 1548,in, deg, 44, 30.0000,N, 145, 0.0000,E, grid, , , ,N
Point05,xy, 1668, 1551,in, deg, 44, 30.0000,N, 145, 15.0000,E, grid, , , ,N
Point06,xy, 3242, 1550,in, deg, 44, 30.0000,N, 145, 30.0000,E, grid, , , ,N
Point07,xy, 92, 3008,in, deg, 44, 20.0000,N, 145, 0.0000,E, grid, , , ,N
Point08,xy, 1668, 3011,in, deg, 44, 20.0000,N, 145, 15.0000,E, grid, , , ,N
Point09,xy, 3246, 3008,in, deg, 44, 20.0000,N, 145, 30.0000,E, grid, , , ,N
Point10,xy, , ,in, deg, , ,N, , ,W, grid, , , ,N
Point11,xy, , ,in, deg, , ,N, , ,W, grid, , , ,N
Point12,xy, , ,in, deg, , ,N, , ,W, grid, , , ,N
Point13,xy, , ,in, deg, , ,N, , ,W, grid, , , ,N
Point14,xy, , ,in, deg, , ,N, , ,W, grid, , , ,N
Point15,xy, , ,in, deg, , ,N, , ,W, grid, , , ,N
Point16,xy, , ,in, deg, , ,N, , ,W, grid, , , ,N
Point17,xy, , ,in, deg, , ,N, , ,W, grid, , , ,N
Point18,xy, , ,in, deg, , ,N, , ,W, grid, , , ,N
Point19,xy, , ,in, deg, , ,N, , ,W, grid, , , ,N
Point20,xy, , ,in, deg, , ,N, , ,W, grid, , , ,N
Point21,xy, , ,in, deg, , ,N, , ,W, grid, , , ,N
Point22,xy, , ,in, deg, , ,N, , ,W, grid, , , ,N
Point23,xy, , ,in, deg, , ,N, , ,W, grid, , , ,N
Point24,xy, , ,in, deg, , ,N, , ,W, grid, , , ,N
Point25,xy, , ,in, deg, , ,N, , ,W, grid, , , ,N
Point26,xy, , ,in, deg, , ,N, , ,W, grid, , , ,N
Point27,xy, , ,in, deg, , ,N, , ,W, grid, , , ,N
Point28,xy, , ,in, deg, , ,N, , ,W, grid, , , ,N
Point29,xy, , ,in, deg, , ,N, , ,W, grid, , , ,N
Point30,xy, , ,in, deg, , ,N, , ,W, grid, , , ,N
Projection Setup, 0.000000000, 147.000000000, 1.000000000, 500000.00, 0.00,,,,,
Map Feature = MF ; Map Comment = MC These follow if they exist
Track File = TF These follow if they exist
Moving Map Parameters = MM? These follow if they exist
MM0,Yes
MMPNUM,4
MMPXY,1,107,99
MMPXY,2,3230,99
MMPXY,3,3230,3005
MMPXY,4,107,3005
MMPLL,1, 145.000558, 44.665600
MMPLL,2, 145.498577, 44.665700
MMPLL,3, 145.497591, 44.333717
MMPLL,4, 145.002391, 44.333664
MM1B,12.641775
MOP,Map Open Position,0,0
IWH,Map Image Width/Height,3337,3104
